BEGIN:VCALENDAR
VERSION:2.0
PRODID:-//ChamberMaster//Event Calendar 2.0//EN
METHOD:PUBLISH
X-PUBLISHED-TTL:P3D
REFRESH-INTERVAL:P3D
CALSCALE:GREGORIAN
BEGIN:VEVENT
DTSTART:20201022T171500Z
DTEND:20201022T180000Z
X-MICROSOFT-CDO-ALLDAYEVENT:FALSE
SUMMARY:10 Truths No Matter Who Wins – 2020 Presidential Election
DESCRIPTION:Join Toporowski\, Clark & Romans Financial Group for a special event!\n\nHistorical Perspectives and Data on the Impact of Politics on Investing\n\n\n\n Common misperceptions about presidential politics and the economy\n\n Market performance and approval ratings\n\n How the impact of signature legislative accomplishments isn't always as expected\n\n\n\nThursday\, October 22nd\, 2020\n\n12:15 PM and 7 PM\n\nWe are hosting an afternoon and an evening session for your convenience.\n\nA Q&A session will follow the presentation.\n\nPlease RSVP by Oct. 20th\, 2020
X-ALT-DESC;FMTTYPE=text/html:<div style="text-align:center"><span style="font-size:14px"><strong>Join Toporowski\, Clark &amp\; Romans Financial Group for a special event!</strong></span></div>\n\n<div style="text-align:center"><strong><em>Historical Perspectives and Data on the Impact of Politics on Investing</em></strong><br />\n<br />\n&bull\;Common misperceptions about presidential politics and the economy<br />\n&bull\;Market performance and approval ratings<br />\n&bull\;How the impact of signature legislative accomplishments isn&rsquo\;t always as expected<br />\n<br />\n<span style="color:rgb(29\, 34\, 40)\; font-family:helvetica neue\,helvetica\,arial\,sans-serif">Thursday\, October 22nd\, 2020</span><br />\n<span style="color:rgb(29\, 34\, 40)\; font-family:helvetica neue\,helvetica\,arial\,sans-serif">12:15 PM and 7 PM</span><br />\n<span style="color:rgb(29\, 34\, 40)\; font-family:helvetica neue\,helvetica\,arial\,sans-serif">We are hosting an afternoon and an evening session for your convenience.</span><br />\n<span style="color:rgb(29\, 34\, 40)\; font-family:helvetica neue\,helvetica\,arial\,sans-serif">A Q&amp\;A session will follow the presentation.<br />\nPlease RSVP by Oct. 20th\, 2020</span><br />\n<br />\n&nbsp\;</div>\n
LOCATION:Virtual Access Instruction Online Presentation Platform: Microsoft Teams No account registration or downloads necessary to attend The link will be sent to your email for direct\, one-click access
UID:e.2843.18191
SEQUENCE:3
DTSTAMP:20260421T111811Z
URL:https://member.quadcitieschamber.com/events/details/10-truths-no-matter-who-wins-2020-presidential-election-10-22-2020-18191
END:VEVENT

END:VCALENDAR
