BEGIN:VCALENDAR
VERSION:2.0
PRODID:-//ChamberMaster//Event Calendar 2.0//EN
METHOD:PUBLISH
X-PUBLISHED-TTL:P3D
REFRESH-INTERVAL:P3D
CALSCALE:GREGORIAN
BEGIN:VEVENT
DTSTART:20140626T163000Z
DTEND:20140626T170000Z
X-MICROSOFT-CDO-ALLDAYEVENT:FALSE
SUMMARY:100 Montaditos Ribbon Cutting
DESCRIPTION:100 Montaditos\, 5141 Utica Ridge Rd. Davenport\, IA 52807\, will celebrate the opening of their restaurant on Thursday\, June 26th at 11:30 am.  http://mapq.st/U6oB7A.  100 Montaditos first opened its doors in November of 2013.  Since then\, the restaurant has added a patio for customers to enjoy outside seating.  100 Montaditos was founded in 2000 near the Spanish southern city of Huelva.  Recreating the atmosphere of a traditional 19th century tavern\, the restaurant specialized in montaditos\, crunchy Spanish rolls baked to order and jam-packed with traditional ingredients such as Serrano ham\, Spanish tortilla\, chorizo sausage and Manchego cheese.  100 Montaditos also provides customers with a variety of different beverage options as well.  Some of their most notable drinks include the Spanish famed Mahou beer\, claras (beer blended with lemon-lime soda)\, sangria (wine punch made with chopped fruit) and tintos de verano (red wine blended with lemon-lime soda). For more information on 100 Montaditos\, please visit www.100montaditos.com.
X-ALT-DESC;FMTTYPE=text/html:<FONT face=Calibri><P style="MARGIN: 0in 0in 0pt" class=MsoNormal>100 Montaditos\, 5141 Utica Ridge Rd. Davenport\, IA 52807\, will celebrate the opening of their restaurant on Thursday\, June 26<SUP>th</SUP> at 11:30 am.<SPAN style="mso-spacerun: yes">&nbsp\; </SPAN><A href="http://mapq.st/U6oB7A"><FONT color=#0000ff face="Times New Roman">http://mapq.st/U6oB7A</FONT></A>.<SPAN style="mso-spacerun: yes">&nbsp\; </SPAN>100 Montaditos first opened its doors in November of 2013.<SPAN style="mso-spacerun: yes">&nbsp\; </SPAN>Since then\, the restaurant has added a patio for customers to enjoy outside seating. <?xml:namespace prefix = o ns = "urn:schemas-microsoft-com:office:office" /><o:p></o:p></P><P style="MARGIN: 0in 0in 0pt" class=MsoNormal><o:p>&nbsp\;</o:p></P><P style="MARGIN: 0in 0in 0pt" class=MsoNormal>100 Montaditos was founded in 2000 near the Spanish southern city of Huelva.<SPAN style="mso-spacerun: yes">&nbsp\; </SPAN>Recreating the atmosphere of a traditional 19<SUP>th</SUP> century tavern\, the restaurant specialized in montaditos\, crunchy Spanish rolls baked to order and jam-packed with traditional ingredients such as Serrano ham\, Spanish tortilla\, chorizo sausage and Manchego cheese. </P><P style="MARGIN: 0in 0in 0pt" class=MsoNormal>&nbsp\;</P><P style="MARGIN: 0in 0in 0pt" class=MsoNormal>100 Montaditos also provides customers with a variety of different beverage options as well.&nbsp\; Some of their most notable drinks include the Spanish famed Mahou beer\, claras (beer blended with lemon-lime soda)\, sangria (wine punch made with chopped fruit) and tintos de verano (red wine blended with lemon-lime soda).</P><P style="MARGIN: 0in 0in 0pt" class=MsoNormal><o:p>&nbsp\;</o:p></P><P style="MARGIN: 0in 0in 0pt" class=MsoNormal>For more information on 100 Montaditos\, please visit <A href="http://www.100montaditos.com"><FONT color=#0000ff face="Times New Roman">www.100montaditos.com</FONT></A>.<o:p></o:p></P><P></FONT>&nbsp\;</P>
LOCATION:100 Montaditos5141 Utica Ridge Road Davenport\, IA 52807
UID:e.2843.813
SEQUENCE:3
DTSTAMP:20260422T111151Z
URL:https://member.quadcitieschamber.com/events/details/100-montaditos-ribbon-cutting-06-26-2014-813
END:VEVENT

END:VCALENDAR
