BEGIN:VCALENDAR
VERSION:2.0
PRODID:-//ChamberMaster//Event Calendar 2.0//EN
METHOD:PUBLISH
X-PUBLISHED-TTL:P3D
REFRESH-INTERVAL:P3D
CALSCALE:GREGORIAN
BEGIN:VEVENT
DTSTART:20190410T170000Z
DTEND:20190410T180000Z
X-MICROSOFT-CDO-ALLDAYEVENT:FALSE
SUMMARY:12 @ 12 Lunch with Leaders: John Riches of Arconic
DESCRIPTION:The Chamber is in the business of facilitating valuable connections between our members. Every other month\, we invite a small group of members to participate in 12@12: Lunch with Leaders to discuss business issues that are pressing to them. 12@12 is always facilitated by a Chamber board member.\n\n\n\nSpace is limited. Advanced registration required.
X-ALT-DESC;FMTTYPE=text/html:<span style="font-size:16px\;"><span style="font-family:arial\;">The Chamber is in the business of facilitating valuable connections between our members. Every other month\, we invite a small group of members to participate in 12@12: Lunch with Leaders to discuss business issues that are pressing to them. 12@12 is always facilitated by a Chamber board member.<br />\n<br />\nSpace is limited. Advanced registration required.&nbsp\;</span></span>
LOCATION:Quad Cities Chamber Moline Office 1601 River Drive Moline\, IL 61265
UID:e.2843.13650
SEQUENCE:3
DTSTAMP:20260422T182911Z
URL:https://member.quadcitieschamber.com/events/details/12-12-lunch-with-leaders-john-riches-of-arconic-13650
END:VEVENT

END:VCALENDAR
