BEGIN:VCALENDAR
VERSION:2.0
PRODID:-//ChamberMaster//Event Calendar 2.0//EN
METHOD:PUBLISH
X-PUBLISHED-TTL:P3D
REFRESH-INTERVAL:P3D
CALSCALE:GREGORIAN
BEGIN:VEVENT
DTSTART:20200812T170000Z
DTEND:20200812T180000Z
X-MICROSOFT-CDO-ALLDAYEVENT:FALSE
SUMMARY:12@12 Lunch with Leaders: Jordan Voigt of Genesis Health Systems
DESCRIPTION:Every other month\, we invite 11 members to participate in a conversation by Zoom over the lunch hour to discuss business issues that are pressing to their organization.  12@12 is always facilitated by a Chamber Board Member.
X-ALT-DESC;FMTTYPE=text/html:<span style="color: rgb(51\, 51\, 51)\; font-family: sans-serif\, Arial\, Verdana\, &quot\;Trebuchet MS&quot\;\; font-size: 13px\; background-color: rgb(255\, 255\, 255)\;">Every other month\, we invite 11 members to participate in a conversation by Zoom over the lunch hour to discuss business issues that are pressing to their organization.&nbsp\; 12@12 is always facilitated by a Chamber Board Member.</span>
LOCATION:This is a virtual meeting. A Zoom link will be sent out the day before the meeting.
UID:e.2843.17444
SEQUENCE:3
DTSTAMP:20260421T142308Z
URL:https://member.quadcitieschamber.com/events/details/12-12-lunch-with-leaders-jordan-voigt-of-genesis-health-systems-17444
END:VEVENT

END:VCALENDAR
