BEGIN:VCALENDAR
VERSION:2.0
PRODID:-//ChamberMaster//Event Calendar 2.0//EN
METHOD:PUBLISH
X-PUBLISHED-TTL:P3D
REFRESH-INTERVAL:P3D
CALSCALE:GREGORIAN
BEGIN:VEVENT
DTSTART:20201014T170000Z
DTEND:20201014T180000Z
X-MICROSOFT-CDO-ALLDAYEVENT:FALSE
SUMMARY:12@12 Lunch with Leaders: Marc Engels of Mel Foster Insurance
DESCRIPTION:Every other month\, we invite 11 members to participate in Zoom conversation over lunch to discuss business issues that are pressing to their organization.  12@12 is always facilitated by a Chamber Board Member.
X-ALT-DESC;FMTTYPE=text/html:Every other month\, we invite 11 members to participate in Zoom conversation over lunch to discuss business issues that are pressing to their organization.&nbsp\; 12@12 is always facilitated by a Chamber Board Member.
LOCATION:This is a virtual meeting\; a Zoom link will be sent to you the day before the event.
UID:e.2843.17445
SEQUENCE:3
DTSTAMP:20260421T111837Z
URL:https://member.quadcitieschamber.com/events/details/12-12-lunch-with-leaders-marc-engels-of-mel-foster-insurance-17445
END:VEVENT

END:VCALENDAR
