BEGIN:VCALENDAR
VERSION:2.0
PRODID:-//ChamberMaster//Event Calendar 2.0//EN
METHOD:PUBLISH
X-PUBLISHED-TTL:P3D
REFRESH-INTERVAL:P3D
CALSCALE:GREGORIAN
BEGIN:VEVENT
DTSTART:20200212T180000Z
DTEND:20200212T190000Z
X-MICROSOFT-CDO-ALLDAYEVENT:FALSE
SUMMARY:12@12 Lunch with Leaders: Mike Poster of St. Ambrose University
DESCRIPTION:Every other month\, we invite 11 members to participate in a conversation over lunch to discuss business issues that are pressing to their organization.  12@12 is always facilitated by a Chamber Board Member.
X-ALT-DESC;FMTTYPE=text/html:<span style="color: rgb(51\, 51\, 51)\; font-family: sans-serif\, Arial\, Verdana\, &quot\;Trebuchet MS&quot\;\; font-size: 13px\; background-color: rgb(255\, 255\, 255)\;">Every other month\, we invite 11 members to participate in a conversation over lunch to discuss business issues that are pressing to their organization.&nbsp\; 12@12 is always facilitated by a Chamber Board Member.</span>
LOCATION:Quad Cities Chamber Moline Large Conference Room 1601 River Dr.\, Suite 310 Moline\, IL 61265
UID:e.2843.17441
SEQUENCE:3
DTSTAMP:20260422T015728Z
URL:https://member.quadcitieschamber.com/events/details/12-12-lunch-with-leaders-mike-poster-of-st-ambrose-university-17441
END:VEVENT

END:VCALENDAR
