BEGIN:VCALENDAR
VERSION:2.0
PRODID:-//ChamberMaster//Event Calendar 2.0//EN
METHOD:PUBLISH
X-PUBLISHED-TTL:P3D
REFRESH-INTERVAL:P3D
CALSCALE:GREGORIAN
BEGIN:VEVENT
DTSTART:20140512T160000Z
DTEND:20140512T220000Z
X-MICROSOFT-CDO-ALLDAYEVENT:FALSE
SUMMARY:18th Annual Little Bogey's Golf Classic Fundraiser!
DESCRIPTION:Join us for a relaxing\, fun day of golf while supporting a wonderful cause!  Skip-a-Long\, a nonprofit early care and education organization in the Quad Cities since 1970\, strives to offer the highestlevel of quality care to ALL children\, regardless of financial means.  Little Bogey's\, our only fundraiser\, helps support programs and experiences for the nearly 700 children we serve every day.  Because of business and individual contributions\, nearly 700 children are able to do science experimentswith the Putnam Museum\, learn about endangered animals with Niabi Zoo\, and learn in classrooms thatmeet the highest standards of quality in the states of Iowa and Illinois.\n\nCome enjoy 18 holes ofgolf\, drinks\, grilled lunch and steak dinner\, golfer gifts\, a silent auction\, and the chance to winteam and individual prizes\, all while making an investment in the quality of care for our community's children!
X-ALT-DESC;FMTTYPE=text/html:Join us for a relaxing\, fun day of golf while supporting a wonderful cause!  Skip-a-Long\, a nonprofit early care and education organization in the Quad Cities since 1970\, strives to offer the highestlevel of quality care to ALL children\, regardless of financial means.  Little Bogey's\, our only fundraiser\, helps support programs and experiences for the nearly 700 children we serve every day.  Because of business and individual contributions\, nearly 700 children are able to do science experimentswith the Putnam Museum\, learn about endangered animals with Niabi Zoo\, and learn in classrooms thatmeet the highest standards of quality in the states of Iowa and Illinois.\n\nCome enjoy 18 holes ofgolf\, drinks\, grilled lunch and steak dinner\, golfer gifts\, a silent auction\, and the chance to winteam and individual prizes\, all while making an investment in the quality of care for our community's children!
LOCATION:Indian Bluff Golf Course6200 78th Ave Milan\, IL 61264
UID:e.2843.32
SEQUENCE:3
DTSTAMP:20260422T093531Z
URL:https://member.quadcitieschamber.com/events/details/18th-annual-little-bogey-s-golf-classic-fundraiser-05-12-2014-32
END:VEVENT

END:VCALENDAR
