BEGIN:VCALENDAR
VERSION:2.0
PRODID:-//ChamberMaster//Event Calendar 2.0//EN
METHOD:PUBLISH
X-PUBLISHED-TTL:P3D
REFRESH-INTERVAL:P3D
CALSCALE:GREGORIAN
BEGIN:VEVENT
DTSTART:20200118T013000Z
DTEND:20200118T040000Z
X-MICROSOFT-CDO-ALLDAYEVENT:FALSE
SUMMARY:1st Annual Davenport Central Band Boosters Blue Devil Bash (Beer and Wine Tasting)
DESCRIPTION:Help us send your award winning Marching Blue Devils to Washington\, DC! Please join us for a festive evening of beer\, wine\, and hors d'oeuvre tasting in support of the only Iowa Marching Band invited to represent our great state in the prestigious Independence Day Parade of 2020! Must be 21 yrs or older Seating is limited so purchase tickets early! This event is open to the public.
X-ALT-DESC;FMTTYPE=text/html:Help us send your award winning Marching Blue Devils to Washington\, DC! Please join us for a festive evening of beer\, wine\, and hors d&#39\;oeuvre tasting in support of the only Iowa Marching Band invited to represent our great state in the prestigious Independence Day Parade of 2020! Must be 21 yrs or older Seating is limited so purchase tickets early! This event is open to the public.
LOCATION:Renwick Mansion 901 Tremont Avenue Davenport
UID:e.2843.17416
SEQUENCE:3
DTSTAMP:20260422T015502Z
URL:https://member.quadcitieschamber.com/events/details/1st-annual-davenport-central-band-boosters-blue-devil-bash-beer-and-wine-tasting-17416
END:VEVENT

END:VCALENDAR
