BEGIN:VCALENDAR
VERSION:2.0
PRODID:-//ChamberMaster//Event Calendar 2.0//EN
METHOD:PUBLISH
X-PUBLISHED-TTL:P3D
REFRESH-INTERVAL:P3D
CALSCALE:GREGORIAN
BEGIN:VEVENT
DTSTART:20180727T140000Z
DTEND:20180727T213000Z
X-MICROSOFT-CDO-ALLDAYEVENT:FALSE
SUMMARY:1st Annual Immigrant Entrepreneurs Summit at Illinois
DESCRIPTION:The Immigrant Entrepreneurs Summit's mission is to bring businesses of diverse backgrounds together to share\, learn\, and celebrate the immigrant entrepreneurship experience and its contribution to the overall community. \n\n\n\nThe Summit will exhibit the success stories of immigrant entrepreneurs. Immigrant business owners will share ideas for business growth and keys to their success. Participants will be able to make connections and learn from others in a non-competitive and supportive environment. \n\n\n\nIf you are an immigrant business owner:\n\nRegistration fee is $20 per attendee. Check payable to Immigrant Entrepreneurs Summit. Conference materials\, breakfast\, and lunch are included. Your registration fee is tax deductible.\n\n\n\nIf you plan to expand your business into the merging market   immigrant market:\n\nYou can become a sponsor for the event or rent an exhibit table to display your products or simply register to be at the conference. The exhibit table fee is $200. Please write check payable to Immigrant Entrepreneurs Summit. For sponsorship information\, please contact Amanda at (515) 864-9242 or (319) 208-3712.
X-ALT-DESC;FMTTYPE=text/html:<span style="font-size:16px\;"><span style="font-family:arial\;"><span style="color: rgb(75\, 79\, 86)\; background-color: rgb(255\, 255\, 255)\;">The Immigrant Entrepreneurs Summit&rsquo\;s mission is to bring businesses of diverse backgrounds together to share\, learn\, and celebrate the immigrant entrepreneurship experience and its contribution to the overall community.&nbsp\;</span><br style="color: rgb(75\, 79\, 86)\; font-family: Helvetica\, Arial\, sans-serif\; font-size: 14px\; background-color: rgb(255\, 255\, 255)\;" />\n<br style="color: rgb(75\, 79\, 86)\; font-family: Helvetica\, Arial\, sans-serif\; font-size: 14px\; background-color: rgb(255\, 255\, 255)\;" />\n<span style="color: rgb(75\, 79\, 86)\; background-color: rgb(255\, 255\, 255)\;">The Summit will exhibit the success stories of immigrant entrepreneurs. Immigrant business owners will share ideas for business growth and keys to their success. Participants will be able to make connections and learn from others in a non-competitive and supportive environment.&nbsp\;<br />\n<br />\nIf you are an immigrant business owner:</span><br style="color: rgb(75\, 79\, 86)\; font-family: Helvetica\, Arial\, sans-serif\; font-size: 14px\; background-color: rgb(255\, 255\, 255)\;" />\n<span style="color: rgb(75\, 79\, 86)\; background-color: rgb(255\, 255\, 255)\;">Registration fee is $20 per attendee. Check payable to Immigrant Entrepreneurs Summit. Conference materials\, breakfast\, and lunch are included. Your registration fee is tax d</span><span class="text_exposed_show" style="display: inline\; color: rgb(75\, 79\, 86)\; background-color: rgb(255\, 255\, 255)\;">eductible.<br />\n<br />\nIf you plan to expand your business into the merging market &mdash\; immigrant market:<br />\nYou can become a sponsor for the event or rent an exhibit table to display your products or simply register to be at the conference. The exhibit table fee is $200. Please write check payable to Immigrant Entrepreneurs Summit. For sponsorship information\, please contact Amanda at (515) 864-9242 or (319) 208-3712.</span></span></span>
LOCATION:TaxSlayer Center 1201 River Dr\, Moline\, IL 61265
UID:e.2843.13273
SEQUENCE:3
DTSTAMP:20260423T074820Z
URL:https://member.quadcitieschamber.com/events/details/1st-annual-immigrant-entrepreneurs-summit-at-illinois-13273
END:VEVENT

END:VCALENDAR
