BEGIN:VCALENDAR
VERSION:2.0
PRODID:-//ChamberMaster//Event Calendar 2.0//EN
METHOD:PUBLISH
X-PUBLISHED-TTL:P3D
REFRESH-INTERVAL:P3D
CALSCALE:GREGORIAN
BEGIN:VEVENT
DTSTART:20190306T163000Z
DTEND:20190306T170000Z
X-MICROSOFT-CDO-ALLDAYEVENT:FALSE
SUMMARY:20 Year Anniversary Celebration - Integrity Integrated
DESCRIPTION:Integrity Integrated will host a 20th Anniversary Business Celebration on Wednesday\, March 6 at 10:30 am.
X-ALT-DESC;FMTTYPE=text/html:Integrity Integrated will host a 20<sup>th</sup> Anniversary Business Celebration on Wednesday\, March 6 at 10:30 am.
LOCATION:1019 Mound Street\, Suite 203 Davenport\, IA 52803
UID:e.2843.13737
SEQUENCE:3
DTSTAMP:20260422T181453Z
URL:https://member.quadcitieschamber.com/events/details/20-year-anniversary-celebration-integrity-integrated-13737
END:VEVENT

END:VCALENDAR
