BEGIN:VCALENDAR
VERSION:2.0
PRODID:-//ChamberMaster//Event Calendar 2.0//EN
METHOD:PUBLISH
X-PUBLISHED-TTL:P3D
REFRESH-INTERVAL:P3D
CALSCALE:GREGORIAN
BEGIN:VEVENT
DTSTART:20191108T213000Z
DTEND:20191108T220000Z
X-MICROSOFT-CDO-ALLDAYEVENT:FALSE
SUMMARY:20 Year Anniversary Celebration - WaterMark Corners
DESCRIPTION:Please join us on Friday\, November 8 at 3:30 pm for a Champagne Toast and Plaque Presentation in honor of WaterMark Corner's 20 Year Anniversary! An Open House will take place from 4:00 pm to 7:00 pm. Champagne\, wine\, munchies\, free gifts to the first 150 in the door and live music will be provided.\n\n \n\nWaterMark Corners is an upscale gift store\, providing full-service stationary\, children's books\, toys and much\, much more! In 2017 Forbes Magazine named them 1 of 5 top Main Street businesses in the country for their innovative approach to Facebook marketing.
X-ALT-DESC;FMTTYPE=text/html:<span style="font-size:16px\;"><span style="font-family:arial\;">Please join us on Friday\, November 8 at 3:30 pm for a Champagne Toast and Plaque Presentation in honor of WaterMark Corner&rsquo\;s 20 Year Anniversary! An Open House will take place from 4:00 pm to 7:00 pm. Champagne\, wine\, munchies\, free gifts to the first 150 in the door and live music will be provided.<br />\n&nbsp\;<br />\nWaterMark Corners is an upscale gift store\, providing full-service stationary\, children&rsquo\;s books\, toys and much\, much more! In 2017 Forbes Magazine named them 1 of 5 top Main Street businesses in the country for their innovative approach to Facebook marketing.</span></span>
LOCATION:1500 River Drive Moline\, IL 61265
UID:e.2843.16923
SEQUENCE:3
DTSTAMP:20260422T082952Z
URL:https://member.quadcitieschamber.com/events/details/20-year-anniversary-celebration-watermark-corners-16923
END:VEVENT

END:VCALENDAR
