BEGIN:VCALENDAR
VERSION:2.0
PRODID:-//ChamberMaster//Event Calendar 2.0//EN
METHOD:PUBLISH
X-PUBLISHED-TTL:P3D
REFRESH-INTERVAL:P3D
CALSCALE:GREGORIAN
BEGIN:VEVENT
DTSTART:20090301T060000Z
DTEND:20090701T050000Z
X-MICROSOFT-CDO-ALLDAYEVENT:FALSE
SUMMARY:2010 TRC
DESCRIPTION:2010 TRC
X-ALT-DESC;FMTTYPE=text/html:2010 TRC
LOCATION:
UID:e.2843.4226
SEQUENCE:3
DTSTAMP:20260424T071946Z
URL:https://member.quadcitieschamber.com/events/details/2010-trc-03-01-2009-4226
END:VEVENT

END:VCALENDAR
