BEGIN:VCALENDAR
VERSION:2.0
PRODID:-//ChamberMaster//Event Calendar 2.0//EN
METHOD:PUBLISH
X-PUBLISHED-TTL:P3D
REFRESH-INTERVAL:P3D
CALSCALE:GREGORIAN
BEGIN:VEVENT
DTSTART:20120505T150000Z
DTEND:20120505T170000Z
X-MICROSOFT-CDO-ALLDAYEVENT:FALSE
SUMMARY:2012 JDRF Walk to Cure Diabetes
DESCRIPTION:The JDRF Walk to Cure Diabetes draws people together in a healthy activity for a worthy goal\, raising money to improve the lives of all people affected by T1D by accelerating progress on the most promising opportunities for curing\, better treating\, and preventing T1D. The Walk is fun for families and builds camaraderie among company employees. Above all\, it's an event you will feel good about being a part of! Your personal contribution and fundraising efforts support JDRF-funded research that will help those living with the disease to look forward to longer\, healthier lives. Take your first step by registering today!\n\nWalk Location: Niabi Zoo\nRegistration Start Time: 8:30 AM\nWalk Start Time: 10:00 AM\nLength of Walk: 2 miles\n\nMain Walk Page: http://www2.jdrf.org/site/PageServer?pagename=walk_homepage \nRegisiter for walk: http://www2.jdrf.org/site/TR/Walk-IL/Chapter-EasternIowa4218?fr_id=1649&pg=entry
X-ALT-DESC;FMTTYPE=text/html:The JDRF Walk to Cure Diabetes draws people together in a healthy activity for a worthy goal\, raising money to improve the lives of all people affected by T1D by accelerating progress on the most promising opportunities for curing\, better treating\, and preventing T1D. The Walk is fun for families and builds camaraderie among company employees. Above all\, it's an event you will feel good about being a part of! Your personal contribution and fundraising efforts support JDRF-funded research that will help those living with the disease to look forward to longer\, healthier lives. Take your first step by registering today!\n\nWalk Location: Niabi Zoo\nRegistration Start Time: 8:30 AM\nWalk Start Time: 10:00 AM\nLength of Walk: 2 miles\n\nMain Walk Page: http://www2.jdrf.org/site/PageServer?pagename=walk_homepage \nRegisiter for walk: http://www2.jdrf.org/site/TR/Walk-IL/Chapter-EasternIowa4218?fr_id=1649&pg=entry\n\n
LOCATION:Niabi Zoo13010 Niabi Zoo Road Coal Valley\, IL 61240
UID:e.2843.105
SEQUENCE:3
DTSTAMP:20260422T013158Z
URL:https://member.quadcitieschamber.com/events/details/2012-jdrf-walk-to-cure-diabetes-05-05-2012-105
END:VEVENT

END:VCALENDAR
