BEGIN:VCALENDAR
VERSION:2.0
PRODID:-//ChamberMaster//Event Calendar 2.0//EN
METHOD:PUBLISH
X-PUBLISHED-TTL:P3D
REFRESH-INTERVAL:P3D
CALSCALE:GREGORIAN
BEGIN:VEVENT
DTSTART:20130101T060000Z
DTEND:20130101T060000Z
X-MICROSOFT-CDO-ALLDAYEVENT:FALSE
SUMMARY:2013 Hooah! Quad Cities Veteran Hiring Partner
DESCRIPTION:2013 Hooah! Quad Cities Veteran Hiring Partner
X-ALT-DESC;FMTTYPE=text/html:2013 Hooah! Quad Cities Veteran Hiring Partner
LOCATION:TBD
UID:e.2843.1679
SEQUENCE:3
DTSTAMP:20260421T121222Z
URL:https://member.quadcitieschamber.com/events/details/2013-hooah-quad-cities-veteran-hiring-partner-01-01-2013-1679
END:VEVENT

END:VCALENDAR
