BEGIN:VCALENDAR
VERSION:2.0
PRODID:-//ChamberMaster//Event Calendar 2.0//EN
METHOD:PUBLISH
X-PUBLISHED-TTL:P3D
REFRESH-INTERVAL:P3D
CALSCALE:GREGORIAN
BEGIN:VEVENT
DTSTART:20150101T060000Z
DTEND:20150101T060000Z
X-MICROSOFT-CDO-ALLDAYEVENT:FALSE
SUMMARY:2015 Ready2Serve
DESCRIPTION:2015 Ready2Serve
X-ALT-DESC;FMTTYPE=text/html:2015 Ready2Serve
LOCATION:TBD
UID:e.2843.2107
SEQUENCE:3
DTSTAMP:20260420T214202Z
URL:https://member.quadcitieschamber.com/events/details/2015-ready2serve-01-01-2015-2107
END:VEVENT

END:VCALENDAR
