BEGIN:VCALENDAR
VERSION:2.0
PRODID:-//ChamberMaster//Event Calendar 2.0//EN
METHOD:PUBLISH
X-PUBLISHED-TTL:P3D
REFRESH-INTERVAL:P3D
CALSCALE:GREGORIAN
BEGIN:VEVENT
DTSTART:20171007T140000Z
DTEND:20171007T190000Z
X-MICROSOFT-CDO-ALLDAYEVENT:FALSE
SUMMARY:2017 National Kidney Foundation Village Stroll
DESCRIPTION:Where: Lindsay Park & Village of East Davenport When: October 7\, 2017 at 9:00AM Register: https://team.kidney.org/index.cfm?fuseaction=donorDrive.event&eventID=534 Show your support and fight kidney disease by attending the Village Sidewalk Stroll. This event\, which benefits the National Kidney Foundations\, will begin with family-friendly activities at 9:30 AM in Lindsay Park\, followed by a short\, non-competitive walk along the sidewalks of East Village at 10:30 AM. There will be a silent auction and door prizes for visiting local Village merchants on your Stroll Passport The main registration booth and check-in will be in Lindsay Park and will begin at 9AM. For more information\, contact Erin McKenrick at mckenrickfamily@gmail.com. We are also seeking volunteers to help with the event. If you can give us any of your time before or during the stroll\, please also email Erin at the address above.
X-ALT-DESC;FMTTYPE=text/html:Where: Lindsay Park &amp\; Village of East Davenport When: October 7\, 2017 at 9:00AM Register: https://team.kidney.org/index.cfm?fuseaction=donorDrive.event&amp\;eventID=534 Show your support and fight kidney disease by attending the Village Sidewalk Stroll. This event\, which benefits the National Kidney Foundations\, will begin with family-friendly activities at 9:30 AM in Lindsay Park\, followed by a short\, non-competitive walk along the sidewalks of East Village at 10:30 AM. There will be a silent auction and door prizes for visiting local Village merchants on your Stroll Passport The main registration booth and check-in will be in Lindsay Park and will begin at 9AM. For more information\, contact Erin McKenrick at mckenrickfamily@gmail.com. We are also seeking volunteers to help with the event. If you can give us any of your time before or during the stroll\, please also email Erin at the address above.
LOCATION:Lindsay Park & Village of East Davenport
UID:e.2843.6388
SEQUENCE:3
DTSTAMP:20260423T210229Z
URL:https://member.quadcitieschamber.com/events/details/2017-national-kidney-foundation-village-stroll-6388
END:VEVENT

END:VCALENDAR
