BEGIN:VCALENDAR
VERSION:2.0
PRODID:-//ChamberMaster//Event Calendar 2.0//EN
METHOD:PUBLISH
X-PUBLISHED-TTL:P3D
REFRESH-INTERVAL:P3D
CALSCALE:GREGORIAN
BEGIN:VEVENT
DTSTART;VALUE=DATE:20180613
DTEND;VALUE=DATE:20180614
TRANSP:TRANSPARENT
X-MICROSOFT-CDO-ALLDAYEVENT:TRUE
SUMMARY:2018 Quad Cities Chamber Golf Outing Sponsored by Crawford Company
DESCRIPTION:The Quad Cities Chamber's Annual Golf Outing is the perfect opportunity to bond with clients\, prospects and colleagues on the course. Join fellow Chamber members on June 13th for a full day of networking and friendly competition at TPC Deere Run. \n\nShotgun start times: 7:30 a.m. and 1:00 p.m.\n\nCost: $150 per golfer | $600 for foursome\n\nGolfer Registration Includes:\n\nGreen Fees\n\nCart Rental\n\nBreakfast and Lunch\n\nTwo Drink Tickets (Good for any beverages at the Clubhouse or beverage carts)\n\nGolfer Gift & Giveaways\n\nTwo complimentary clinics with the TPC Director of Instruction\n\nAdmission to the 19th Hole Post Party\n\n\n \n\nTwo Week Cancellation Notice:\n\nA cancellation of registration must be received by May 30th\, 2018 or before in order to receive a refund\n\n\n\nThank you to our 2018 sponsors:\n\nAdvanced Rehab & Sports Medicine\n\n Aerotek\n\n American Bank & Trust\n\n Ascentra Credit Union\n\nBankORION\n\nBlaze Restoration\, Inc.\n\n Courtsey Car City\n\nCrawford Company\n\nDuTrac Community Credit Union\n\nExpress Employment Professionals\n\nGalaxy One\n\nIH Mississippi Valley Credit Union\n\nJohn Deere Classic\n\nJumer's Casino and Hotel\n\nKale Company -  Heating & Air Conditioning\n\nKimberly Park Dental Associates\n\nLight Edge Solutions\n\nMetroLINK\n\n Mississippi Valley Regional Blood Center\n\nMoline Municipal Credit Union\n\nNecker's Jewelers\n\nNorthwest Bank & Trust Company\n\nPrestige Music\n\nQuad Cities River Bandits\n\nRhythm City Casino Resort\n\nRiverbend Signworks\n\nRussell\n\nSERVPRO\n\n St. Ambrose University\n\nTeam Staffing Solution\, Inc.\n\nTrue Mortgage Lending\, A Division of Flanagan State Bank\n\nTyson Fresh Meats\n\nUpper Iowa University - Quad Cities Center\n\nVander Vending\n\nVera French Foundation\n\nVibrant Credit Union\n\nWerner Restoration\n\nWinsor Consulting Group\, LLC
X-ALT-DESC;FMTTYPE=text/html:<div class="MsoNoSpacing" style="margin: 0in 0in 0pt\;"><span style="font-size:16px\;"><span style="font-family:arial\;"><span style="border:none windowtext 1.0pt\;padding:0in\;">&nbsp\;</span></span></span>\n<p style="margin-top:0in\;background:white"><span style="font-size:11.0pt\;\nfont-family:">The Quad Cities Chamber&#39\;s Annual Golf Outing is the perfect opportunity to bond with clients\, prospects and colleagues on the course. Join fellow Chamber members on June 13th&nbsp\;for a full day of networking and friendly competition at TPC Deere Run. </span></p>\n\n<p style="margin-top:0in\;background:white\;box-sizing: inherit\;margin-bottom:\n1rem\;font-variant-ligatures: normal\;font-variant-caps: normal\;orphans: 2\;\ntext-align:start\;widows: 2\;-webkit-text-stroke-width: 0px\;text-decoration-style: initial\;\ntext-decoration-color: initial\;word-spacing:0px"><strong><span style="font-size:11.0pt\;font-family:">Shotgun start times: 7:30 a.m. and 1:00 p.m.</span></strong></p>\n\n<p style="margin-top:0in\;background:white"><strong><span style="font-size:11.0pt\;\nfont-family:">Cost: $150 per golfer | $600 for foursome</span></strong></p>\n\n<p style="margin-top:0in\;background:white\;box-sizing: inherit\;margin-bottom:\n1rem\;font-variant-ligatures: normal\;font-variant-caps: normal\;orphans: 2\;\ntext-align:start\;widows: 2\;-webkit-text-stroke-width: 0px\;text-decoration-style: initial\;\ntext-decoration-color: initial\;word-spacing:0px"><strong><span style="font-size:11.0pt\;font-family:">Golfer Registration Includes:</span></strong></p>\n\n<p style="margin-top:0in\;background:white\;box-sizing: inherit\;margin-bottom:\n1rem\;font-variant-ligatures: normal\;font-variant-caps: normal\;orphans: 2\;\ntext-align:start\;widows: 2\;-webkit-text-stroke-width: 0px\;text-decoration-style: initial\;\ntext-decoration-color: initial\;word-spacing:0px"><span style="font-size:11.0pt\;\nfont-family:">Green Fees<br />\nCart Rental<br />\nBreakfast and Lunch<br />\nTwo Drink Tickets (Good for any beverages at the Clubhouse or beverage carts)<br />\nGolfer Gift &amp\; Giveaways<br />\nTwo complimentary clinics with the TPC&nbsp\;Director of Instruction<br />\nAdmission to the 19<sup>th</sup>&nbsp\;Hole Post Party</span></p>\n<br />\n<span style="font-size:16px\;"><span style="font-family:arial\;">&nbsp\;<br />\n<strong><em><span style="border:none windowtext 1.0pt\;padding:0in\;">Two Week Cancellation Notice:</span></em></strong><br />\n<strong><em><span style="border:none windowtext 1.0pt\;padding:0in\;">A cancellation of registration must be received by May 30th\, 2018 or before in order to receive a refund<br />\n<br />\nThank you to our 2018 sponsors:</span></em></strong><br />\n<span style="border:none windowtext 1.0pt\;padding:0in\;">Advanced Rehab &amp\; Sports Medicine<br />\n&#8203\;Aerotek<br />\n&#8203\;American Bank &amp\; Trust<br />\n&#8203\;Ascentra Credit Union<br />\nBankORION<br />\nBlaze Restoration\, Inc.<br />\n&#8203\;Courtsey&nbsp\;Car City<br />\nCrawford Company<br />\nDuTrac&nbsp\;Community Credit Union<br />\nExpress Employment Professionals<br />\nGalaxy One<br />\nIH Mississippi Valley Credit Union<br />\nJohn Deere Classic<br />\nJumer&#39\;s&nbsp\;Casino and Hotel<br />\nKale Company -&nbsp\;&nbsp\;Heating&nbsp\;&amp\; Air Conditioning<br />\nKimberly Park Dental Associates<br />\nLight Edge Solutions<br />\nMetroLINK<br />\n&#8203\;Mississippi Valley Regional Blood Center<br />\nMoline Municipal Credit Union<br />\nNecker&#39\;s Jewelers<br />\nNorthwest Bank &amp\; Trust Company<br />\nPrestige Music<br />\nQuad Cities River Bandits<br />\nRhythm City Casino Resort<br />\nRiverbend Signworks<br />\nRussell<br />\nSERVPRO<br />\n&#8203\;St. Ambrose University<br />\nTeam Staffing Solution\, Inc.<br />\nTrue Mortgage Lending\, A Division of Flanagan State Bank<br />\nTyson Fresh Meats<br />\nUpper Iowa University - Quad Cities Center<br />\nVander Vending<br />\nVera French Foundation<br />\nVibrant Credit Union<br />\nWerner Restoration<br />\nWinsor Consulting Group\, LLC</span></span></span><br />\n&nbsp\;</div>\n
LOCATION:TPC Deere Run 3100 Heather Knoll\, Silvis\, IL 61282
UID:e.2843.9956
SEQUENCE:3
DTSTAMP:20260423T092407Z
URL:https://member.quadcitieschamber.com/events/details/2018-quad-cities-chamber-golf-outing-sponsored-by-crawford-company-9956
END:VEVENT

END:VCALENDAR
