BEGIN:VCALENDAR
VERSION:2.0
PRODID:-//ChamberMaster//Event Calendar 2.0//EN
METHOD:PUBLISH
X-PUBLISHED-TTL:P3D
REFRESH-INTERVAL:P3D
CALSCALE:GREGORIAN
BEGIN:VEVENT
DTSTART:20200118T180000Z
DTEND:20200118T193000Z
X-MICROSOFT-CDO-ALLDAYEVENT:FALSE
SUMMARY:2020 January Jumpstart Partner Nutrition & Wellness Challenge Seminar
DESCRIPTION:This seminar is to kick off the start of our 2020 January Jumpstart Partner Nutrition & Wellness Challenge! \n\n\n\nDuring the seminar challenge participants will learn about nutrition\, set goals\, identify healthy habits and learn how to incorporate them into their life.\n\n\nOUR CHALLENGE IS OPEN TO NON MEMBERS AND MEMBERS! GRAB AN ACCOUNTABILIBUDDY AND JOIN US! \n\n\n\nHere is the link to more info: https://liveactive563.com/6-week-january-jumpstart-partner-nutrition-wellness-challenge/\n\n\n\nDuring our 6 week challenge HERE IS WHAT YOU GET.....\n\n\n	2 Individual Appointments with a Wellness Coach\n	6-Week challenge meal plans (with Grocery Lists)\n	Goal Setting & action steps\n	Challenge Nutrition Handbook\n	2 Biometric Testing Scans (InBody Machine)\n	Access to our Exclusive App & group messaging board with fellow nutrition clients\n	Ongoing support from coaches in between appointments throughout challenge via our own app\n	Weekly Videos (Nutrition Tips\, Recipes\, Kitchen Tips within the HSN App)\n	Weekly MINI challenges and prizes\n	Graduate to On-Going ACCOUNTABILITY nutrition & wellness Coaching after Challenge at members rate.\n	Our program is written and overseen by an R.D. \n\n\n\n\nHere's what to expect:\n\n\n\nNON MEMBERS WELCOME!\n\n\n\nGrab a partner! This is a partner challenge!\n\n\n\nThe winning team will get a CASH PRIZE!\n\n\n\nThe winning individual will receive an Air Fryer!\n\n\n\nExclusive access to our app with kitchen tips\, recipes\, nutrition tips and so much more\n\n\n\nFun atmosphere and a group of people supporting each other on their journey to health\n\n\n\nWe are only opening up this challenge to 50 participants (25 teams) to ensure everyone has the support they are looking for! \nSee Less
X-ALT-DESC;FMTTYPE=text/html:This seminar is to kick off the start of our 2020 January Jumpstart Partner Nutrition &amp\; Wellness Challenge!&nbsp\;<br />\n<br />\nDuring the seminar challenge participants will learn<span style="font-family:inherit">&nbsp\;about&nbsp\;</span><span style="font-family:inherit">nutrition\, set goals\, identify healthy habits and learn how to incorporate them into their life.</span>\n<div><br />\n<span style="font-family:inherit">OUR CHALLENGE IS OPEN TO NON MEMBERS AND MEMBERS! GRAB AN ACCOUNTABILIBUDDY AND JOIN US!&nbsp\;<br />\n<br />\nHere is the link to more info:&nbsp\;</span><a href="https://liveactive563.com/6-week-january-jumpstart-partner-nutrition-wellness-challenge/">https://liveactive563.com/6-week-january-jumpstart-partner-nutrition-wellness-challenge/</a><br />\n<br />\n<span style="font-family:inherit">During our 6 week challenge HERE IS WHAT YOU GET.....</span></div>\n\n<ul>\n	<li><span style="color:rgb(34\, 34\, 34)">2 Individual Appointments with a Wellness Coach</span></li>\n	<li><span style="color:rgb(34\, 34\, 34)">6-Week challenge meal plans (with Grocery Lists)</span></li>\n	<li><span style="color:rgb(34\, 34\, 34)">Goal Setting &amp\; action steps</span></li>\n	<li><span style="color:rgb(34\, 34\, 34)">Challenge Nutrition Handbook</span></li>\n	<li><span style="color:rgb(34\, 34\, 34)">2 Biometric Testing Scans (InBody Machine)</span></li>\n	<li><span style="color:rgb(34\, 34\, 34)">Access to our Exclusive App &amp\; group messaging board with fellow nutrition clients</span></li>\n	<li><span style="color:rgb(34\, 34\, 34)">Ongoing support from coaches in between appointments throughout challenge via our own app</span></li>\n	<li><span style="color:rgb(34\, 34\, 34)">Weekly Videos (Nutrition Tips\, Recipes\, Kitchen Tips within the HSN App)</span></li>\n	<li><span style="color:rgb(34\, 34\, 34)">Weekly MINI challenges and prizes</span></li>\n	<li><span style="color:rgb(34\, 34\, 34)">Graduate to On-Going ACCOUNTABILITY nutrition &amp\; wellness Coaching after Challenge at members rate.</span></li>\n	<li><span style="color:rgb(34\, 34\, 34)">Our program is written and overseen by an R.D.&nbsp\;</span></li>\n</ul>\n\n<div><br />\n<span style="font-family:inherit">Here&#39\;s what to expect:<br />\n<br />\nNON MEMBERS WELCOME!<br />\n<br />\nGrab a partner! This is a partner challenge!<br />\n<br />\nThe winning team will get a CASH PRIZE!<br />\n<br />\nThe winning individual will re</span><span style="font-family:inherit">ceive an Air Fryer!<br />\n<br />\nExclusive access to our app with kitchen tips\, recipes\, nutrition tips and so much more<br />\n<br />\nFun atmosphere and a group of people supporting each other on their journey to health<br />\n<br />\nWe are only opening up this challenge to 50 participants (25 teams) to ensure everyone has the support they are looking for!&nbsp\;</span></div>\n<a class="_63eo" href="https://www.facebook.com/events/2861046753914089/?active_tab=about#" style="color: rgb(56\, 88\, 152)\; cursor: pointer\; text-decoration-line: none\; background: rgb(255\, 255\, 255)\; border-top: 1px solid rgb(235\, 237\, 240)\; display: block\; padding: 12px 0px\; text-align: center\; font-family: system-ui\, -apple-system\, system-ui\, &quot\;.SFNSText-Regular&quot\;\, sans-serif\; font-size: 12px\;"><span style="font-family:inherit">See Less</span></a>
LOCATION:983 40th Ave\, Bettendorf IA\, 52722
UID:e.2843.17432
SEQUENCE:3
DTSTAMP:20260422T015523Z
URL:https://member.quadcitieschamber.com/events/details/2020-january-jumpstart-partner-nutrition-wellness-challenge-seminar-17432
END:VEVENT

END:VCALENDAR
