BEGIN:VCALENDAR
VERSION:2.0
PRODID:-//ChamberMaster//Event Calendar 2.0//EN
METHOD:PUBLISH
X-PUBLISHED-TTL:P3D
REFRESH-INTERVAL:P3D
CALSCALE:GREGORIAN
BEGIN:VEVENT
DTSTART:20250709T223000Z
DTEND:20250710T000000Z
X-MICROSOFT-CDO-ALLDAYEVENT:FALSE
SUMMARY:2025 InternQC | MeetUp at Bent River Brewing Co.
DESCRIPTION:2025 InternQC | MeetUp at Bent River Brewing Co.\n\nWednesday\, July 9 | 5:30 - 7 p.m.\n\nBent River Brewing Co.\, Moline\n\n\n\nJoin us for the 2025 InternQC meet up at Bent River Brewing Co. in Moline. Enjoy great food\, drinks\, and much more. It's a great opportunity to connect with friends and other young professionals spending their summer in the Quad Cities.\n\n\n\nBent River Brewing Co. is known for its great outdoor space and the "go to" spot for young professionals. Enjoy some food\, drink\, and activities while you mingle. This is the perfect place to meet up with friends after a long week of work.\n\n\nINTERNQC EVENTS ARE FOR REGISTERED INTERNQC PARTICIPANTS ONLY.\n\n\n\nThe Quad Cities Chamber strives to host inclusive and accessible events that enable all individuals to engage fully. For event assistance or any additional information\, please contact:\n\n\n\nAnna Possehl | Quad Cities Chamber\n\napossehl@quadcitieschamber.com | 563.823.2659
X-ALT-DESC;FMTTYPE=text/html:<div><span style="font-size: 16px\;"><strong>2025&nbsp\;InternQC | MeetUp&nbsp\;at Bent River Brewing Co.</strong><br />\n<strong>Wednesday\, July 9&nbsp\;|&nbsp\;</strong><strong>5:30 - 7&nbsp\;p.m.<br />\nBent River Brewing Co.\, Moline</strong><br />\n<br />\nJoin us for the 2025&nbsp\;InternQC meet up&nbsp\;at Bent River Brewing Co. in Moline. Enjoy great food\, drinks\,&nbsp\;and much more. It&#39\;s a great opportunity to connect with friends and&nbsp\;other young professionals&nbsp\;spending their summer in the Quad Cities.</span><br />\n<br />\n<span style="font-family:arial\,sans-serif\;"><span style="font-size:16px\;">Bent River Brewing Co.&nbsp\;is known for its great outdoor space and the &quot\;go to&quot\; spot for young professionals.&nbsp\;</span></span><span style="font-family:arial\,sans-serif\;"><span style="font-size:16px\;">Enjoy some food\, drink\, and activities while you mingle. This is the perfect place to meet up with friends after a long week of work.</span></span></div>\n<br />\n<strong style="color: rgb(255\, 140\, 0)\; font-family: arial\; font-size: 16px\;">INTERNQC&nbsp\;EVENTS ARE FOR REGISTERED&nbsp\;INTERNQC&nbsp\;PARTICIPANTS ONLY.</strong><br />\n<br />\n<span style="color: rgb(39\, 50\, 56)\; font-family: arial\; font-size: 14px\;">The Quad Cities Chamber strives to host inclusive and accessible events that enable all individuals to engage fully. For event assistance or any additional information\, please contact:</span><br style="color: rgb(39\, 50\, 56)\; font-family: arial\; font-size: 14px\; box-sizing: border-box\;" />\n<br />\n<font face="arial"><span style="font-size: 14px\;">Anna Possehl | Quad Cities Chamber<br />\n<a href="mailto:apossehl@quadcitieschamber.com">apossehl@quadcitieschamber.com</a>&nbsp\;| 563.823.2659</span></font>\n\n<div style="margin: 0in 0in 6pt\;">&nbsp\;</div>\n&nbsp\;\n\n<div style="margin: 0in 0in 6pt\;">&nbsp\;</div>\n<br />\n&nbsp\;
LOCATION:Bent River Brewing Co. 1413 5th Ave\, Moline\, IL
UID:e.2843.23716
SEQUENCE:3
DTSTAMP:20260425T015652Z
URL:https://member.quadcitieschamber.com/events/details/2025-internqc-meetup-at-bent-river-brewing-co-23716
END:VEVENT

END:VCALENDAR
