BEGIN:VCALENDAR
VERSION:2.0
PRODID:-//ChamberMaster//Event Calendar 2.0//EN
METHOD:PUBLISH
X-PUBLISHED-TTL:P3D
REFRESH-INTERVAL:P3D
CALSCALE:GREGORIAN
BEGIN:VEVENT
DTSTART:20250724T224500Z
DTEND:20250725T010000Z
X-MICROSOFT-CDO-ALLDAYEVENT:FALSE
SUMMARY:2025 InternQC | Night at the Ballpark
DESCRIPTION:2025 InternQC | Night at the Ballpark\n\nThursday\, July 24 | 5:45 - 8:00 p.m.\n\nModern Woodmen Ball Park\, Davenport | Home of the River Bandits\n\n\n\nPlay ball! Cheer on the Quad Cities River Bandits from the Champions Club as they play the Wisconsin Timber Rattlers.\n\n\n\nMeet up with fellow interns and see why Modern Woodmen Park has been awarded the best minor league ballpark in the country. Enjoy the game in style from the QC Custom Tees Terrace along with dinner and more.\n\n\n\nKNOW BEFORE YOU GO:\n\nFree for InternQC participants | Registration required\n\nIncludes game ticket\, access to QC Custom Tees Terrace\, and dinner.\n\n\n\n5:45 p.m. Gates Open | Access to QC Custom Tees Terrace\n\n6 p.m. Dinner | Pregame festivities at the QC Custom Tees Terrace\n\n6:30 p.m. Game time | Watch the game in VIP style from the QC Custom Tees Terrace\n\n\n\n\n\nINTERNQC EVENTS ARE FOR REGISTERED INTERNQC PARTICIPANTS ONLY\n\n\n\n\n\nThe Quad Cities Chamber strives to host inclusive and accessible events that enable all individuals to engage fully. For event assistance or any additional information\, please contact:\n\n\n\nAnna Possehl | Quad Cities Chamber\n\napossehl@quadcitieschamber.com | 563.823.2659
X-ALT-DESC;FMTTYPE=text/html:<span style="font-size:16px\;"><span style="font-family:arial\;"><strong>2025 InternQC | Night at the Ballpark</strong><br />\n<strong>Thursday\, July 24 | 5:45 - 8:00 p.m.<br />\nModern Woodmen Ball Par</strong></span></span><span style="font-size:16px\;"><span style="font-family:arial\;"><strong>k\, Davenport | Home of the River Bandits</strong><br />\n<br />\nPlay ball! Cheer on the Quad Cities River Bandits from the Champions Club as they play the Wisconsin Timber Rattlers.</span></span><br />\n<br />\n<span style="font-size:16px\;"><span style="font-family:arial\;">Meet up with fellow interns and see why Modern Woodmen Park has been awarded the best minor league ballpark in the country. Enjoy the game in style from the QC Custom Tees Terrace along with dinner and more.</span></span><br />\n<br />\n<span style="box-sizing: content-box\; font-weight: bolder\; inset: auto\; clear: none\; content: normal\; direction: inherit\; empty-cells: show\; font-variant-numeric: inherit\; font-variant-east-asian: inherit\; font-stretch: inherit\; font-size: 16px\; font-family: arial\; line-height: inherit\; margin: 0px\; max-height: none\; max-width: none\; min-height: initial\; min-width: initial\; opacity: 1\; outline-offset: 0px\; overflow: visible\; padding: 0px\; position: static\; resize: none\; table-layout: auto\; text-overflow: clip\; vertical-align: baseline\; visibility: inherit\; word-break: inherit\; overflow-wrap: inherit\; z-index: auto\; background-image: none\; background-position: initial\; background-size: initial\; background-repeat: initial\; background-attachment: initial\; background-origin: initial\; background-clip: initial\; border: none\; border-collapse: separate\; border-radius: 0px\; height: auto\; width: auto\; box-shadow: none\;"><span style="color:#FF8C00\;">KNOW BEFORE YOU GO:</span><br />\nFree for InternQC participants | Registration required<br />\nIncludes game ticket\, access to QC Custom Tees Terrace\, and dinner.</span><br />\n<br />\n<span style="font-size: 16px\;">5:45 p.m. Gates Open | Access to QC Custom Tees Terrace</span><br style="font-size: 16px\;" />\n<span style="font-size: 16px\;">6 p.m. Dinner | Pregame festivities at the QC Custom Tees Terrace</span><br style="font-size: 16px\;" />\n<span style="font-size: 16px\;">6:30 p.m. Game time | Watch the game in VIP style from the QC Custom Tees Terrace</span><br />\n<br />\n<br />\n<span style="box-sizing: content-box\; font-weight: bolder\; bottom: auto\; clear: none\; color: rgb(255\, 140\, 0)\; content: normal\; direction: inherit\; empty-cells: show\; font-variant-numeric: inherit\; font-variant-east-asian: inherit\; font-stretch: inherit\; font-size: 16px\; font-family: arial\; left: auto\; line-height: inherit\; margin: 0px\; max-height: none\; max-width: none\; min-height: initial\; min-width: initial\; opacity: 1\; outline-offset: 0px\; overflow: visible\; padding: 0px\; position: static\; resize: none\; right: auto\; table-layout: auto\; text-overflow: clip\; top: auto\; vertical-align: baseline\; visibility: inherit\; word-break: inherit\; word-wrap: inherit\; z-index: auto\; background-image: none\; background-position: initial\; background-size: initial\; background-repeat: initial\; background-attachment: initial\; background-origin: initial\; background-clip: initial\; border: none\; border-collapse: separate\; border-radius: 0px\; height: auto\; width: auto\; box-shadow: none\;">INTERNQC&nbsp\;EVENTS ARE FOR REGISTERED&nbsp\;INTERNQC&nbsp\;PARTICIPANTS ONLY</span><br />\n<br />\n<br />\n<span style="color: rgb(39\, 50\, 56)\; font-family: arial\; font-size: 14px\;">The Quad Cities Chamber strives to host inclusive and accessible events that enable all individuals to engage fully. For event assistance or any additional information\, please contact:</span><br style="color: rgb(39\, 50\, 56)\; font-family: arial\; font-size: 14px\; box-sizing: border-box\;" />\n<br />\n<font face="arial"><span style="font-size: 14px\;">Anna Possehl | Quad Cities Chamber<br />\n<a href="mailto:apossehl@quadcitieschamber.com">apossehl@quadcitieschamber.com</a> | 563.823.2659</span></font>\n<div style="margin: 0in 0in 6pt\;">&nbsp\;</div>\n<br />\n<br />\n<br />\n<br />\n<br />\n<br />\n&nbsp\;
LOCATION:Modern Woodmen Park 209 S Gaines St Davenport\, IA 52802
UID:e.2843.23711
SEQUENCE:3
DTSTAMP:20260425T031714Z
URL:https://member.quadcitieschamber.com/events/details/2025-internqc-night-at-the-ballpark-23711
END:VEVENT

END:VCALENDAR
