BEGIN:VCALENDAR
VERSION:2.0
PRODID:-//ChamberMaster//Event Calendar 2.0//EN
METHOD:PUBLISH
X-PUBLISHED-TTL:P3D
REFRESH-INTERVAL:P3D
CALSCALE:GREGORIAN
BEGIN:VEVENT
DTSTART:20170616T220000Z
DTEND:20170617T030000Z
X-MICROSOFT-CDO-ALLDAYEVENT:FALSE
SUMMARY:242nd Army Birthday Ball
DESCRIPTION:The Quad Cities Chamber\, Association of the United States Army\, and the\n\nRock Island Arsenal request the pleasure of your company at the \n\nUnited States Army 242nd Birthday Ball\n\n"Over there! A Celebration of the WWI Soldier"\n\n  \n\nAttire\n\nMilitary: Dress Mess/Army Service Uniform \n\nCivilian: Black tie preferred\n\n \n\n\nMenu  \n\nDuet Plate: \n\nHouse Salad with White Balsamic Vinaigrette\n\nNew York Strip Steak\n\nRoasted Soy\, Ginger and Cardamom Salmon with a Red Pepper Cream Sauce\n\nCreamy Mashed Potatoes\n\nPetite Green Beans\n\nRolls and Butter\n\nChampagne Toast  \n\n \n\n*Vegetarian option available upon request. Submit your vegetarian request to eventsolutionsgroup.dgw@gmail.com \n\n\n \n\nRSVP by \n\nFriday\, June 9 at 5pm\n\n\n\n*Please note: If you have a seat preference\, please purchase your tickets as a group.\n\nIndividual seating requests will not be guaranteed.
X-ALT-DESC;FMTTYPE=text/html:<div align="center">&nbsp\;</div>\n\n<div style="text-align: center\;"><span style="font-size:16px\;"><span style="font-family:arial\;">The Quad Cities Chamber\, Association of the United States Army\, and the<br />\nRock Island Arsenal request the pleasure of your company at the </span></span></div>\n\n<div style="text-align: center\;"><span style="font-size:16px\;"><span style="font-family:arial\;"><strong>United States Army 242nd Birthday Ball<br />\n&quot\;Over there! A Celebration of the WWI Soldier&quot\;</strong></span></span></div>\n\n<div style="text-align: center\;"><span style="font-size:16px\;"><span style="font-family:arial\;"><font color="#ff0000"><strong>&nbsp\;&nbsp\;</strong></font></span></span></div>\n\n<div style="text-align: center\;"><span style="font-size:16px\;"><span style="font-family:arial\;">Attire</span></span></div>\n\n<div style="text-align: center\;"><span style="font-size:16px\;"><span style="font-family:arial\;">Military: Dress Mess/Army Service Uniform </span></span></div>\n\n<div style="text-align: center\;"><span style="font-size:16px\;"><span style="font-family:arial\;">Civilian: Black tie preferred</span></span></div>\n\n<div style="text-align: center\;">&nbsp\;</div>\n\n<div align="center">\n<p class="MsoNormal" style="margin: 0in 0in 0pt\; text-align: center\;"><span style="font-size:16px\;"><span style="font-family:arial\;"><span style="color: black\;">Menu&nbsp\;</span>&nbsp\;</span></span></p>\n\n<div style="text-align: center\;"><font color="#000000" face="calibri\, sans-serif"><span style="font-size:16px\;"><span style="font-family:arial\;">Duet Plate: </span></span></font><br />\n<span style="color: rgb(0\, 0\, 0)\; font-family: arial\; font-size: 16px\; text-align: center\;">House Salad with White Balsamic Vinaigrette</span><br />\n<font color="#000000" face="calibri\, sans-serif"><span style="font-size:16px\;"><span style="font-family:arial\;">New York Strip Steak<br />\nRoasted Soy\, Ginger and Cardamom Salmon with a Red Pepper Cream Sauce<br />\nCreamy Mashed Potatoes<br />\nPetite Green Beans<br />\nRolls and Butter<br />\nChampagne Toast&nbsp\;&nbsp\;</span></span></font></div>\n\n<p class="MsoNormal" style="margin: 0in 0in 0pt\; text-align: center\;">&nbsp\;</p>\n\n<p class="MsoNormal" style="margin: 0in 0in 0pt\; text-align: center\;"><span style="font-size:16px\;"><span style="font-family:arial\;"><span style="color: black\;">*Vegetarian option available upon request. Submit your vegetarian request to </span><font color="#0000ff"><a href="http://eventsolutionsgroup.dgw@gmail.com">eventsolutionsgroup.dgw@gmail.com</a>&nbsp\;</font></span></span></p>\n</div>\n\n<div style="text-align: center\;">&nbsp\;</div>\n\n<div style="text-align: center\;"><span style="font-size:16px\;"><span style="font-family:arial\;"><strong>RSVP by&nbsp\;<br />\nFriday\, June 9 at 5pm</strong></span><br />\n<br />\n<span style="font-size:14px\;"><span style="color:#FF0000\;">*Please note: <span style="font-family:arial\;">If you have a seat preference\, please purchase your tickets as a group.</span><br style="font-family: arial\; font-size: 16px\;" />\nIndividual seating requests will not be guaranteed.&nbsp\;</span></span></span></div>\n\n<div style="text-align: center\;">&nbsp\;</div>\n\n<div align="left">&nbsp\;</div>\n\n<div align="left">&nbsp\;</div>\n\n<div align="left">&nbsp\;</div>\n\n<div align="left">&nbsp\;</div>\n
LOCATION:Quad Cities Waterfront Convention Center 2021 State St. Bettendorf\, IA
UID:e.2843.1350
SEQUENCE:3
DTSTAMP:20260424T031648Z
URL:https://member.quadcitieschamber.com/events/details/242nd-army-birthday-ball-1350
END:VEVENT

END:VCALENDAR
