BEGIN:VCALENDAR
VERSION:2.0
PRODID:-//ChamberMaster//Event Calendar 2.0//EN
METHOD:PUBLISH
X-PUBLISHED-TTL:P3D
REFRESH-INTERVAL:P3D
CALSCALE:GREGORIAN
BEGIN:VEVENT
DTSTART:20170630T153000Z
DTEND:20170630T163000Z
X-MICROSOFT-CDO-ALLDAYEVENT:FALSE
SUMMARY:25th Anniversary Celebration - Glynns Creek Golf Course
DESCRIPTION:Join us on Friday\, June 30 at 10:30am as we celebrate Glynns Creek Golf Course's 25 years of business in the Quad Cities! The Quad Cities Chamber will present a special plaque in recognition of their milestone anniversary.\n\n \n\nGlynns Creek Golf Course is located at 19251 290th St. Long Grove\, IA 52756.\n\n \n\nLunch will be provided at 11am\, if you plan to stay for lunch\, please RSVP to jewelsdujour@me.com\, so Glynns Creek can have an accurate headcount for lunch.
X-ALT-DESC;FMTTYPE=text/html:<span style="font-family:arial\;"><span style="font-size:14px\;">Join us on Friday\, June 30 at 10:30am as we celebrate Glynns Creek Golf Course&rsquo\;s 25 years of business in the Quad Cities! The Quad Cities Chamber will present a special plaque in recognition of their milestone anniversary.<br />\n&nbsp\;<br />\nGlynns Creek Golf Course is located at 19251 290th St. Long Grove\, IA 52756.<br />\n&nbsp\;<br />\nLunch will be provided at 11am\, if you plan to stay for lunch\, please RSVP to jewelsdujour@me.com\,&nbsp\;so&nbsp\;Glynns Creek can have an accurate headcount for lunch.</span></span>
LOCATION:Glynns Creek Golf Course 19251 290th St. Long Grove\, IA 52756.
UID:e.2843.6083
SEQUENCE:3
DTSTAMP:20260424T015035Z
URL:https://member.quadcitieschamber.com/events/details/25th-anniversary-celebration-glynns-creek-golf-course-6083
END:VEVENT

END:VCALENDAR
