BEGIN:VCALENDAR
VERSION:2.0
PRODID:-//ChamberMaster//Event Calendar 2.0//EN
METHOD:PUBLISH
X-PUBLISHED-TTL:P3D
REFRESH-INTERVAL:P3D
CALSCALE:GREGORIAN
BEGIN:VEVENT
DTSTART:20170427T223000Z
DTEND:20170428T013000Z
X-MICROSOFT-CDO-ALLDAYEVENT:FALSE
SUMMARY:2nd Annual Wings for the Future Charity Event
DESCRIPTION:Love wings and beer? Then come to our 2nd Annual Wings for the Future Charity Event on Thursday\, April 27 at the RI Holiday Inn\, 226 17th St.\, Rock Island. Wings\, beer and more! This very special event exists to support St. Joseph the Worker House\, which provides a home\, individual services and more for homeless women and children in the Quad Cities.
X-ALT-DESC;FMTTYPE=text/html:<strong><span style="color:#339933">Love wings and beer? Then come to our 2nd Annual Wings for the Future Charity Event on Thursday\, April 27 at the RI Holiday Inn\, 226 17th St.\, Rock Island. Wings\, beer and more! This very special event exists to support St. Joseph the Worker House\, which provides a home\, individual services and more for homeless women and children in the Quad Cities. </span></strong>
LOCATION:Rock Island Holiday Inn 226 17th St.\, Rock Island
UID:e.2843.4718
SEQUENCE:3
DTSTAMP:20260424T061711Z
URL:https://member.quadcitieschamber.com/events/details/2nd-annual-wings-for-the-future-charity-event-4718
END:VEVENT

END:VCALENDAR
