BEGIN:VCALENDAR
VERSION:2.0
PRODID:-//ChamberMaster//Event Calendar 2.0//EN
METHOD:PUBLISH
X-PUBLISHED-TTL:P3D
REFRESH-INTERVAL:P3D
CALSCALE:GREGORIAN
BEGIN:VEVENT
DTSTART:20120717T223000Z
DTEND:20120718T010000Z
X-MICROSOFT-CDO-ALLDAYEVENT:FALSE
SUMMARY:3rd Annual Network Bags Tournament
DESCRIPTION:Join The Network: Young Professionals of the Quad Cities for our 3rd Annual Bags Tournament at Pints! Grab a friend and form a team (or we'll put one together for you) for an awesome night of bags\, networking\, fun and gorgeous summer weather! This event is free for members of The Network and $5 for guests. Questions? Contact Anne at 563-823-2659.
X-ALT-DESC;FMTTYPE=text/html:<DIV>Join The Network: Young Professionals of the Quad Cities for our 3rd Annual Bags Tournament at Pints! Grab a friend and form a team (or we'll put one together for you) for an awesome night of bags\, networking\, fun and gorgeous summer weather! This event is free for members of The Network and $5 for guests.</DIV><DIV>&nbsp\;</DIV><DIV>Questions? Contact Anne at 563-823-2659.</DIV>
LOCATION:Pints5268 Utica Ridge Road Davenport\, IA 52807
UID:e.2843.392
SEQUENCE:3
DTSTAMP:20260421T220033Z
URL:https://member.quadcitieschamber.com/events/details/3rd-annual-network-bags-tournament-07-17-2012-392
END:VEVENT

END:VCALENDAR
