BEGIN:VCALENDAR
VERSION:2.0
PRODID:-//ChamberMaster//Event Calendar 2.0//EN
METHOD:PUBLISH
X-PUBLISHED-TTL:P3D
REFRESH-INTERVAL:P3D
CALSCALE:GREGORIAN
BEGIN:VEVENT
DTSTART:20181117T150000Z
DTEND:20181117T180000Z
X-MICROSOFT-CDO-ALLDAYEVENT:FALSE
SUMMARY:4-H Expo
DESCRIPTION:On Saturday\, November 17 come and explore science\, engineering and technology at the 4-H Expo at University of Illinois Extension\, 321 W 2nd Ave. Milan\, IL. Stop by between 9 am to noon when 4-H members will lead interactive stations where youth can explore monarch migration\, electricity and coding\, food science and food decorating\, animal science and farm safety\, robotics\, entomology\, citizen scientists and other 4-H projects!  There will be hands-on fun\, free giveaways\, snacks and 4-H club and volunteer information. See 4-H members in action and find out how you can become a 4-H member where kids "learn by doing."\n\nThis event is free and open to all ages.
X-ALT-DESC;FMTTYPE=text/html:<p>On Saturday\, November 17 come and explore science\, engineering and technology at the 4-H Expo at University of Illinois Extension\, 321 W 2nd Ave. Milan\, IL. Stop by between 9 am to noon when 4-H members will lead interactive stations where youth can explore monarch migration\, electricity and coding\, food science and food decorating\, animal science and farm safety\, robotics\, entomology\, citizen scientists and other 4-H projects!&nbsp\; There will be hands-on fun\, free giveaways\, snacks and 4-H club and volunteer information. See 4-H members in action and find out how you can become a 4-H member where kids &quot\;learn by doing.&quot\;</p>\n\n<p>This event is free and open to all ages.</p>\n
LOCATION:University of Illinois Extension\, 321 West 2nd Ave. Milan\, IL 61264
UID:e.2843.13538
SEQUENCE:3
DTSTAMP:20260423T011606Z
URL:https://member.quadcitieschamber.com/events/details/4-h-expo-13538
END:VEVENT

END:VCALENDAR
