BEGIN:VCALENDAR
VERSION:2.0
PRODID:-//ChamberMaster//Event Calendar 2.0//EN
METHOD:PUBLISH
X-PUBLISHED-TTL:P3D
REFRESH-INTERVAL:P3D
CALSCALE:GREGORIAN
BEGIN:VEVENT
DTSTART:20190618T200000Z
DTEND:20190618T220000Z
X-MICROSOFT-CDO-ALLDAYEVENT:FALSE
SUMMARY:40 Year Anniversary Celebration - Friendship Manor
DESCRIPTION:Friendship Manor will host a ceremony on Tuesday\, June 18\, to celebrate their 40 Year Anniversary.  An anniversary plaque presentation will take place at 3:30 pm. The public open house will be held from 3:00 pm to 5:00 pm featuring a string quartet from the Quad City Symphony Orchestra. Beverages and Hors d'oeuvres will served.
X-ALT-DESC;FMTTYPE=text/html:<br />\nFriendship Manor will host a ceremony on Tuesday\, June 18\, to celebrate their 40 Year Anniversary.&nbsp\; An anniversary plaque presentation will take place at 3:30 pm. The public open house will be held from 3:00 pm to 5:00 pm featuring a string quartet from the Quad City Symphony Orchestra. Beverages and Hors d&rsquo\;oeuvres will served.
LOCATION:1209 21st Avenue Rock Island\, IL 61201
UID:e.2843.15401
SEQUENCE:3
DTSTAMP:20260422T131535Z
URL:https://member.quadcitieschamber.com/events/details/40-year-anniversary-celebration-friendship-manor-15401
END:VEVENT

END:VCALENDAR
