BEGIN:VCALENDAR
VERSION:2.0
PRODID:-//ChamberMaster//Event Calendar 2.0//EN
METHOD:PUBLISH
X-PUBLISHED-TTL:P3D
REFRESH-INTERVAL:P3D
CALSCALE:GREGORIAN
BEGIN:VEVENT
DTSTART:20170612T203000Z
DTEND:20170612T230000Z
X-MICROSOFT-CDO-ALLDAYEVENT:FALSE
SUMMARY:40th Anniversary Celebration - Circa '21 Dinner Playhouse
DESCRIPTION:Join us on Monday\, June 12 at 3:30pm as we celebrate Circa '21's 40 years of business in the Quad Cities! The Quad Cities Chamber will present a special plaque in recognition of their milestone anniversary.\n\n \n\nCirca '21 Dinner Playhouse is located at 1828 3rd Ave. Rock Island\, IL 61201.\n\n \n\nAn open house will follow until 6pm.\n\n \n\nCirca '21 Dinner Playhouse is celebrating their 40th birthday\, making them the country's longest\, continuously running dinner theater\, still owned and operated by its founder! And\, their Bootleggers (performing wait staff) have been with them since the beginning\, making their Bootlegger's pre-show the longest continuously running show in the Quad Cities! The theater was built in 1921 as a vaudeville and silent movie house. Owner\, Dennis Hitchcock\, purchased the theater in 1976\, converted it to Las Vegas style table seating and opened as a professional dinner theater on June 11\, 1977. Circa '21 produces Broadway Musicals\, comedies\, school theater workshops
X-ALT-DESC;FMTTYPE=text/html:<span style="font-family:arial\;"><span style="font-size:14px\;">Join us on Monday\, June 12 at 3:30pm as we celebrate Circa &lsquo\;21&rsquo\;s 40 years of business in the Quad Cities! The Quad Cities Chamber will present a special plaque in recognition of their milestone anniversary.<br />\n&nbsp\;<br />\nCirca &rsquo\;21 Dinner Playhouse is located at 1828 3<sup>rd</sup> Ave. Rock Island\, IL 61201.<br />\n&nbsp\;<br />\nAn open house will follow until 6pm.<br />\n&nbsp\;<br />\nCirca &rsquo\;21 Dinner Playhouse is celebrating their 40<sup>th</sup> birthday\, making them the country&rsquo\;s longest\, continuously running dinner theater\, still owned and operated by its founder! And\, their Bootleggers (performing wait staff) have been with them since the beginning\, making their Bootlegger&rsquo\;s pre-show the longest continuously running show in the Quad Cities! The theater was built in 1921 as a vaudeville and silent movie house. Owner\, Dennis Hitchcock\, purchased the theater in 1976\, converted it to Las Vegas style table seating and opened as a professional dinner theater on June 11\, 1977. Circa &rsquo\;21 produces Broadway Musicals\, comedies\, school theater workshops</span></span>
LOCATION:Circa '21 Dinner Playhouse 1828 3rd Ave. Rock Island\, IL 61201
UID:e.2843.6058
SEQUENCE:3
DTSTAMP:20260424T015051Z
URL:https://member.quadcitieschamber.com/events/details/40th-anniversary-celebration-circa-21-dinner-playhouse-6058
END:VEVENT

END:VCALENDAR
