BEGIN:VCALENDAR
VERSION:2.0
PRODID:-//ChamberMaster//Event Calendar 2.0//EN
METHOD:PUBLISH
X-PUBLISHED-TTL:P3D
REFRESH-INTERVAL:P3D
CALSCALE:GREGORIAN
BEGIN:VEVENT
DTSTART:20130726T160000Z
DTEND:20130726T163000Z
X-MICROSOFT-CDO-ALLDAYEVENT:FALSE
SUMMARY:42nd Annual Street Fest Kickoff Ribbon Cutting
DESCRIPTION:Please help the Downtown Davenport Partnership kickoff the 42nd Annual Street Fest with the presenting sponsor\, Mississippi Valley Regional Blood Center.  The Street Fest will take place on Friday\, July 26th and Saturday\, July 27th. For more information about the festival\, click here.
X-ALT-DESC;FMTTYPE=text/html:<DIV><FONT face=Calibri><P style="MARGIN: 0in 0in 0pt" class=MsoNormal>Please help the Downtown Davenport Partnership kickoff the 42nd Annual Street Fest with the presenting sponsor\, Mississippi Valley Regional Blood Center. </P><P style="MARGIN: 0in 0in 0pt" class=MsoNormal>&nbsp\;</P><P style="MARGIN: 0in 0in 0pt" class=MsoNormal>The Street Fest will take place on Friday\, July 26th and Saturday\, July 27th. For more information about the festival\, <A dataFld=0:0 href="http://downtowndavenport.com/play/festivals/street-fest/">click here</A>. </P><P style="MARGIN: 0in 0in 0pt" class=MsoNormal>&nbsp\;</P><P style="MARGIN: 0in 0in 0pt" class=MsoNormal>&nbsp\;</P></FONT></DIV>
LOCATION:Missisippi Plaza - Main StageIntersection of 2nd & Main Streets Davenport\, IA 52801
UID:e.2843.623
SEQUENCE:3
DTSTAMP:20260421T152659Z
URL:https://member.quadcitieschamber.com/events/details/42nd-annual-street-fest-kickoff-ribbon-cutting-07-26-2013-623
END:VEVENT

END:VCALENDAR
