BEGIN:VCALENDAR
VERSION:2.0
PRODID:-//ChamberMaster//Event Calendar 2.0//EN
METHOD:PUBLISH
X-PUBLISHED-TTL:P3D
REFRESH-INTERVAL:P3D
CALSCALE:GREGORIAN
BEGIN:VEVENT
DTSTART:20190704T210000Z
DTEND:20190705T010000Z
X-MICROSOFT-CDO-ALLDAYEVENT:FALSE
SUMMARY:4th of July Block Party
DESCRIPTION:Join the Merrill Hotel & the community of Muscatine\, IA as we celebrate Independence Day! We're throwing a block party to celebrate the 4th of July. Stop by before or after the parade downtown Muscatine. We'll have food and beverages available for purchase and activities for the kiddos. The fireworks will blast off over the Mississippi River at dusk! Seating is limited to Maxwell's restaurant patrons.\n\n\n\nLEARN MORE
X-ALT-DESC;FMTTYPE=text/html:<span style="color:rgb(29\, 33\, 41)\; font-family:helvetica\,arial\,sans-serif\; font-size:14px">Join the Merrill Hotel &amp\; the community of Muscatine\, IA as we celebrate Independence Day! We&#39\;re throwing a block party to celebrate the 4th of July. Stop by before or after the parade downtown Muscatine. We&#39\;ll have food and beverages available for purchase and activities for the kiddos. The fireworks will blast off over the Mississippi River at dusk! Seating is limited to Maxwell&#39\;s restaurant patrons.</span><br />\n<br />\n<a href="https://www.themerrill.com/4th-of-july.htm" style="font-family: helvetica\, arial\, sans-serif\; font-size: 14px\;" target="_blank">LEARN MORE</a>
LOCATION:Maxwell's at the Merrill 119 West Mississippi Drive Muscatine\, Iowa 52761
UID:e.2843.15419
SEQUENCE:3
DTSTAMP:20260422T113829Z
URL:https://member.quadcitieschamber.com/events/details/4th-of-july-block-party-15419
END:VEVENT

END:VCALENDAR
