BEGIN:VCALENDAR
VERSION:2.0
PRODID:-//ChamberMaster//Event Calendar 2.0//EN
METHOD:PUBLISH
X-PUBLISHED-TTL:P3D
REFRESH-INTERVAL:P3D
CALSCALE:GREGORIAN
BEGIN:VEVENT
DTSTART:20091119T060000Z
DTEND:20091119T060000Z
X-MICROSOFT-CDO-ALLDAYEVENT:FALSE
SUMMARY:5:15 pay at door
DESCRIPTION:5:15 pay at door
X-ALT-DESC;FMTTYPE=text/html:5:15 pay at door
LOCATION:
UID:e.2843.3786
SEQUENCE:3
DTSTAMP:20260424T090631Z
URL:https://member.quadcitieschamber.com/events/details/5-15-pay-at-door-11-19-2009-3786
END:VEVENT

END:VCALENDAR
