BEGIN:VCALENDAR
VERSION:2.0
PRODID:-//ChamberMaster//Event Calendar 2.0//EN
METHOD:PUBLISH
X-PUBLISHED-TTL:P3D
REFRESH-INTERVAL:P3D
CALSCALE:GREGORIAN
BEGIN:VEVENT
DTSTART:20190227T000000Z
DTEND:20190227T010000Z
X-MICROSOFT-CDO-ALLDAYEVENT:FALSE
SUMMARY:5 Keys to Retiring Fearlessly workshop
DESCRIPTION:After working hard each week to get to TGIF\, retirement may be in sight. 5 Keys to Retiring Fearlessly is a free workshop from Thrivent that will help you discover five keys to unlocking a retirement that's free from worry\, where you can have full confidence in your ability to achieve your goals. RSVP here or contact Jon Rasler at 563-370-8854 or jonathan.rasler@thrivent.com. No products will be sold. 27878-8FB R10-18
X-ALT-DESC;FMTTYPE=text/html:After working hard each week to get to TGIF\, retirement may be in sight. 5 Keys to Retiring Fearlessly is a free workshop from Thrivent that will help you discover five keys to unlocking a retirement that&rsquo\;s free from worry\, where you can have full confidence in your ability to achieve your goals. RSVP here or contact Jon Rasler at 563-370-8854 or jonathan.rasler@thrivent.com. No products will be sold. 27878-8FB R10-18
LOCATION:The Steeplegate Inn\, 100 W. 76th St\, Davenport\, IA\, 52806
UID:e.2843.13774
SEQUENCE:3
DTSTAMP:20260422T195755Z
URL:https://member.quadcitieschamber.com/events/details/5-keys-to-retiring-fearlessly-workshop-13774
END:VEVENT

END:VCALENDAR
