BEGIN:VCALENDAR
VERSION:2.0
PRODID:-//ChamberMaster//Event Calendar 2.0//EN
METHOD:PUBLISH
X-PUBLISHED-TTL:P3D
REFRESH-INTERVAL:P3D
CALSCALE:GREGORIAN
BEGIN:VEVENT
DTSTART:20171025T213000Z
DTEND:20171026T000000Z
X-MICROSOFT-CDO-ALLDAYEVENT:FALSE
SUMMARY:5 Year Anniversary Celebration and Open House - Element Home Furnishings & Interior Design
DESCRIPTION:Join us on Wednesday\, October 25 at 4:30pm as we celebrate Element Home Furnishings & Interior Design's 5 years of business in the Quad Cities! The Quad Cities Chamber will present a special plaque in recognition of their milestone anniversary. An open house will follow 5pm   7pm.\n\n \n\nClick here for more information about Element Home Furnishings & Interior Design.
X-ALT-DESC;FMTTYPE=text/html:<span style="font-size:14px\;"><span style="font-family:arial\;">Join us on Wednesday\, October 25 at 4:30pm as we celebrate Element Home Furnishings &amp\; Interior Design&rsquo\;s 5 years of business in the Quad Cities! The Quad Cities Chamber will present a special plaque in recognition of their milestone anniversary. An open house will follow 5pm &ndash\; 7pm.<br />\n&nbsp\;<br />\n<a href="https://www.elementshomeqc.com/">Click here</a> for more information about Element Home Furnishings &amp\; Interior Design.</span></span>
LOCATION:Element Home Furnishings & Interior Design 3416 Towne Pointe Drive Bettendorf\, IA 52722
UID:e.2843.8581
SEQUENCE:3
DTSTAMP:20260423T210556Z
URL:https://member.quadcitieschamber.com/events/details/5-year-anniversary-celebration-and-open-house-element-home-furnishings-interior-design-8581
END:VEVENT

END:VCALENDAR
