BEGIN:VCALENDAR
VERSION:2.0
PRODID:-//ChamberMaster//Event Calendar 2.0//EN
METHOD:PUBLISH
X-PUBLISHED-TTL:P3D
REFRESH-INTERVAL:P3D
CALSCALE:GREGORIAN
BEGIN:VEVENT
DTSTART:20190208T220000Z
DTEND:20190208T230000Z
X-MICROSOFT-CDO-ALLDAYEVENT:FALSE
SUMMARY:5 Year Anniversary Celebration - Zeke's Island Cafe
DESCRIPTION:Zeke's Island Cafe will hold a 5-Year Anniversary Celebration on Friday\, February 8\, 2019.\n\nBeverages and hors d'oeuvres will be served after the celebration.
X-ALT-DESC;FMTTYPE=text/html:<span style="font-family:arial\;">Zeke&#39\;s Island Cafe<span style="color: rgb(51\, 51\, 51)\; font-size: 13px\; background-color: rgb(255\, 255\, 255)\;">&nbsp\;will hold a 5-Year Anniversary Celebration on Friday\, February 8\, 2019.</span><br />\nBeverages and hors d&#39\;oeuvres will be served after the celebration.</span>
LOCATION:1509 N. Harrison Street Davenport\, IA 52803
UID:e.2843.13762
SEQUENCE:3
DTSTAMP:20260422T215208Z
URL:https://member.quadcitieschamber.com/events/details/5-year-anniversary-celebration-zeke-s-island-cafe-13762
END:VEVENT

END:VCALENDAR
