BEGIN:VCALENDAR
VERSION:2.0
PRODID:-//ChamberMaster//Event Calendar 2.0//EN
METHOD:PUBLISH
X-PUBLISHED-TTL:P3D
REFRESH-INTERVAL:P3D
CALSCALE:GREGORIAN
BEGIN:VEVENT
DTSTART:20190222T220000Z
DTEND:20190222T223000Z
X-MICROSOFT-CDO-ALLDAYEVENT:FALSE
SUMMARY:5 - Year Anniversary Celebration - Zeke's Island Cafe
DESCRIPTION:Zeke's Island Cafe will host a 5-Year Anniversary Celebration at 4:00 p.m. on February 22. .
X-ALT-DESC;FMTTYPE=text/html:<span style="font-size:16px\;">Zeke&#39\;s Island Cafe will host a 5-Year Anniversary Celebration at 4:00 p.m. on February 22. .</span>
LOCATION:1509 Harrison Street Davenport\, IA 52803
UID:e.2843.13778
SEQUENCE:3
DTSTAMP:20260422T215208Z
URL:https://member.quadcitieschamber.com/events/details/5-year-anniversary-celebration-zeke-s-island-cafe-13778
END:VEVENT

END:VCALENDAR
