BEGIN:VCALENDAR
VERSION:2.0
PRODID:-//ChamberMaster//Event Calendar 2.0//EN
METHOD:PUBLISH
X-PUBLISHED-TTL:P3D
REFRESH-INTERVAL:P3D
CALSCALE:GREGORIAN
BEGIN:VEVENT
DTSTART:20190514T193000Z
DTEND:20190514T200000Z
X-MICROSOFT-CDO-ALLDAYEVENT:FALSE
SUMMARY:50 Year Anniversary Celebration - Ace Auto Doctor & Repair
DESCRIPTION:Ace Auto Doctor & Repair will host a ceremony celebrating 50 Years of Service in the Quad Cities on Tuesday\, May 14.\n\nRefreshments will be served after the ceremony.
X-ALT-DESC;FMTTYPE=text/html:Ace Auto Doctor &amp\; Repair will host a ceremony celebrating 50 Years of Service in the Quad Cities on Tuesday\, May 14.<br />\nRefreshments will be served after the ceremony.
LOCATION:2226 State Street Bettendorf\, IA 52722
UID:e.2843.14339
SEQUENCE:3
DTSTAMP:20260422T164402Z
URL:https://member.quadcitieschamber.com/events/details/50-year-anniversary-celebration-ace-auto-doctor-repair-14339
END:VEVENT

END:VCALENDAR
