BEGIN:VCALENDAR
VERSION:2.0
PRODID:-//ChamberMaster//Event Calendar 2.0//EN
METHOD:PUBLISH
X-PUBLISHED-TTL:P3D
REFRESH-INTERVAL:P3D
CALSCALE:GREGORIAN
BEGIN:VEVENT
DTSTART:20190627T190000Z
DTEND:20190628T000000Z
X-MICROSOFT-CDO-ALLDAYEVENT:FALSE
SUMMARY:50 Year Anniversary Open House - Handicapped Development Center
DESCRIPTION:The Handicapped Development Center will host a public Open House on Thursday\, June 27th\,  to celebrate their 50 Year anniversary. Everyone is invited to attend!
X-ALT-DESC;FMTTYPE=text/html:<br />\nThe Handicapped Development Center will host a public Open House on Thursday\, June 27th\,&nbsp\; to celebrate their 50 Year anniversary. Everyone is invited to attend!
LOCATION:3402 Hickory Grove Road Davenport\, IA 52806
UID:e.2843.15423
SEQUENCE:3
DTSTAMP:20260422T131509Z
URL:https://member.quadcitieschamber.com/events/details/50-year-anniversary-open-house-handicapped-development-center-15423
END:VEVENT

END:VCALENDAR
