BEGIN:VCALENDAR
VERSION:2.0
PRODID:-//ChamberMaster//Event Calendar 2.0//EN
METHOD:PUBLISH
X-PUBLISHED-TTL:P3D
REFRESH-INTERVAL:P3D
CALSCALE:GREGORIAN
BEGIN:VEVENT
DTSTART:20170315T210000Z
DTEND:20170316T000000Z
X-MICROSOFT-CDO-ALLDAYEVENT:FALSE
SUMMARY:501 Brady Lofts Open House
DESCRIPTION:501 Brady Lofts are NOW LEASING in the heart of Downtown Davenport. Stop by for our open house and take a tour of our brand new "green" building.
X-ALT-DESC;FMTTYPE=text/html:501 Brady Lofts are NOW LEASING in the heart of Downtown Davenport. Stop by for our open house and take a tour of our brand new &quot\;green&quot\; building.
LOCATION:501 Brady St. Davenport\, IA 52803
UID:e.2843.4728
SEQUENCE:3
DTSTAMP:20260424T055838Z
URL:https://member.quadcitieschamber.com/events/details/501-brady-lofts-open-house-4728
END:VEVENT

END:VCALENDAR
