BEGIN:VCALENDAR
VERSION:2.0
PRODID:-//ChamberMaster//Event Calendar 2.0//EN
METHOD:PUBLISH
X-PUBLISHED-TTL:P3D
REFRESH-INTERVAL:P3D
CALSCALE:GREGORIAN
BEGIN:VEVENT
DTSTART:20230127T220000Z
DTEND:20230128T040000Z
X-MICROSOFT-CDO-ALLDAYEVENT:FALSE
SUMMARY:$55K Snow Day Giveway
DESCRIPTION:Every week on Fridays in January five winners every hour from 4 PM - 10 PM will choose a snowflake containing a prize up to $1\,000 Free Slot Play. On January 27 at 10:30 PM ONE GRAND PRIZE WINNER WILL RECEIVE $15\,000 CASH! See Resort Club for full rules and details.
X-ALT-DESC;FMTTYPE=text/html:Every week on Fridays in January five winners every hour from 4 PM - 10 PM will choose a snowflake containing a prize up to $1\,000 Free Slot Play. On January 27 at 10:30 PM ONE GRAND PRIZE WINNER WILL RECEIVE $15\,000 CASH! See Resort Club for full rules and details.
LOCATION:Rhythm City Casino Resort
UID:e.2843.20974
SEQUENCE:3
DTSTAMP:20260420T162758Z
URL:https://member.quadcitieschamber.com/events/details/55k-snow-day-giveway-01-27-2023-20974
END:VEVENT

END:VCALENDAR
