BEGIN:VCALENDAR
VERSION:2.0
PRODID:-//ChamberMaster//Event Calendar 2.0//EN
METHOD:PUBLISH
X-PUBLISHED-TTL:P3D
REFRESH-INTERVAL:P3D
CALSCALE:GREGORIAN
BEGIN:VEVENT
DTSTART:20180203T173000Z
DTEND:20180203T200000Z
X-MICROSOFT-CDO-ALLDAYEVENT:FALSE
SUMMARY:5th Annual Have a Heart for the Homeless Luncheon
DESCRIPTION:Humility of Mary Shelter\, Inc. in Davenport and Christian Care of Rock Island are hosting the 5th Annual "Have a Heart for the Homeless Luncheon." on Feb. 3\, 2018 at CASI\, 1035. W. Kimberly Rd.\, Davenport\, IA. Tickets are $26/person. Lunch catered by Biaggi's. 50/50 Raffle\, silent auction items and raffle baskets available. Entertainment provided. To RSVP or to make a donation\, contact Becki Anderson: banderson@christiancareqc.org or call 309-786-5734. Send checks payable to Christian Care\, PO Box 4176\, Rock Island\, IL 61201.
X-ALT-DESC;FMTTYPE=text/html:Humility of Mary Shelter\, Inc. in Davenport and Christian Care of Rock Island are hosting the 5th Annual &quot\;Have a Heart for the Homeless Luncheon.&quot\; on Feb. 3\, 2018 at CASI\, 1035. W. Kimberly Rd.\, Davenport\, IA. Tickets are $26/person. Lunch catered by Biaggi&#39\;s. 50/50 Raffle\, silent auction items and raffle baskets available. Entertainment provided. To RSVP or to make a donation\, contact Becki Anderson: banderson@christiancareqc.org or call 309-786-5734. Send checks payable to Christian Care\, PO Box 4176\, Rock Island\, IL 61201.
LOCATION:CASI\, 1035 West Kimberly Road\, Davenport\, IA
UID:e.2843.9903
SEQUENCE:3
DTSTAMP:20260423T153712Z
URL:https://member.quadcitieschamber.com/events/details/5th-annual-have-a-heart-for-the-homeless-luncheon-9903
END:VEVENT

END:VCALENDAR
