BEGIN:VCALENDAR
VERSION:2.0
PRODID:-//ChamberMaster//Event Calendar 2.0//EN
METHOD:PUBLISH
X-PUBLISHED-TTL:P3D
REFRESH-INTERVAL:P3D
CALSCALE:GREGORIAN
BEGIN:VEVENT
DTSTART;VALUE=DATE:20180721
DTEND;VALUE=DATE:20180722
TRANSP:TRANSPARENT
X-MICROSOFT-CDO-ALLDAYEVENT:TRUE
SUMMARY:5th Annual Woodhull Family Fun Fest
DESCRIPTION:Fun Fest 5K run begins at AlWood H.S. at 8:00 a.m. Early registration fee is $20.00. After July 13 until race day the cost is $25.00. Entry forms are available at online race calendars at www.cornbelt.org and www.starvedrockrunners.org or call Lindsey Brown at 309-334-2934 or email lbrown@jtmconcepts.com. Race day registration and packet pick-up will begin at 6:45 a.m. and conclude at 7:45 a.m. sharp. The 5K course is flat and fast winding through the streets of Woodhull and the rural countryside north of town. Awards go to the top three finishers in each Male and Female age division\, The top Male and Female Woodhull Finishers and top Male and Female Ridgewood Cross Country Alumni will also earn trophies. Walkers are welcomed and eligible for age group trophies. 78 Trophies will be awarded in the following age groups: 9 & under\, 10-14\, 15-19\, 20-24\, 25-29\, 30-34\, 35-39\, 40-44\, 45-49\, 50-54\, 55-59\, 60-64\, 65 and over. Results\, fruit\, drinks\, and snacks will be available after the race. Free Family Fun Run (1/4 mile loop) for the little ones w/ free t-shirt and ribbon for the kids. Fun Run set to start approximately 9:30 after 5K Trophy Presentations. The race kicks off a day of free events in the park for kids (including a fully sanctioned Spartan Strong Man competition) celebrating summer fun topped off by supper (BBQ Ribs) on Main Street and a Free Admission Street Dance featuring The Luke Caccetta Band (8:00 p.m. to Midnight) to round out the evening.
X-ALT-DESC;FMTTYPE=text/html:Fun Fest 5K run begins at AlWood H.S. at 8:00 a.m. Early registration fee is $20.00. After July 13 until race day the cost is $25.00. Entry forms are available at online race calendars at www.cornbelt.org and www.starvedrockrunners.org or call Lindsey Brown at 309-334-2934 or email lbrown@jtmconcepts.com. Race day registration and packet pick-up will begin at 6:45 a.m. and conclude at 7:45 a.m. sharp. The 5K course is flat and fast winding through the streets of Woodhull and the rural countryside north of town. Awards go to the top three finishers in each Male and Female age division\, The top Male and Female Woodhull Finishers and top Male and Female Ridgewood Cross Country Alumni will also earn trophies. Walkers are welcomed and eligible for age group trophies. 78 Trophies will be awarded in the following age groups: 9 &amp\; under\, 10-14\, 15-19\, 20-24\, 25-29\, 30-34\, 35-39\, 40-44\, 45-49\, 50-54\, 55-59\, 60-64\, 65 and over. Results\, fruit\, drinks\, and snacks will be available after the race. Free Family Fun Run (1/4 mile loop) for the little ones w/ free t-shirt and ribbon for the kids. Fun Run set to start approximately 9:30 after 5K Trophy Presentations. The race kicks off a day of free events in the park for kids (including a fully sanctioned Spartan Strong Man competition) celebrating summer fun topped off by supper (BBQ Ribs) on Main Street and a Free Admission Street Dance featuring The Luke Caccetta Band (8:00 p.m. to Midnight) to round out the evening.
LOCATION:AlWood Middle/High School
UID:e.2843.13303
SEQUENCE:3
DTSTAMP:20260423T080506Z
URL:https://member.quadcitieschamber.com/events/details/5th-annual-woodhull-family-fun-fest-13303
END:VEVENT

END:VCALENDAR
