BEGIN:VCALENDAR
VERSION:2.0
PRODID:-//ChamberMaster//Event Calendar 2.0//EN
METHOD:PUBLISH
X-PUBLISHED-TTL:P3D
REFRESH-INTERVAL:P3D
CALSCALE:GREGORIAN
BEGIN:VEVENT
DTSTART:20200704T180000Z
DTEND:20200704T200000Z
X-MICROSOFT-CDO-ALLDAYEVENT:FALSE
SUMMARY:60th Annual AMVETS 4th of July Parade
DESCRIPTION:July 4\, 2018 1:00 PM\n\nAlong 15th Ave   13th   3rd Streets\n\n***\n\nCelebrating the 60th Annual\n\nAMVETS 4th of July Parade\n\n"Through the Decades"\n\nWhat's that you ask?  All entries incorporate a decade into their float\, unit\, etc.  Think of songs\, tv shows\, music groups\, movies\, and more when you think about how your float would represent your decade... 50's\, 60's\, 70's\, 80's\, 90's\, 00's. \n\nThis year Mayor Freeman selects his Grand Champion entry!  \n\n                                                                                                                                                                                                       \n\nFamily Wagon Floats!\n\nFamilies   Using a wagon as your base\, create a float that highlights your decade. Google "wagon float" for lots of great ideas!  Prizes (Family Night - A night at the new Hyatt Hotel and large pizza from Fields of Pizza) for the best wagon float in each decade.  Go to http://www.eastmoline.com/375/EM-Independence-Day or email emsecretary@eastmoline.com and request one.
X-ALT-DESC;FMTTYPE=text/html:<div style="text-align:center"><span style="font-family:comic sans ms"><span style="font-size:24px"><span style="color:rgb(0\, 32\, 96)">July 4\, 2018 1:00 PM</span></span><br />\n<span style="font-size:22px"><em><span style="color:rgb(0\, 32\, 96)">Along 15<sup>th</sup> Ave &ndash\; 13<sup>th</sup> &ndash\; 3<sup>rd</sup> Streets</span></em></span><br />\n<span style="font-size:26px"><span style="color:rgb(0\, 32\, 96)">***</span></span><br />\n<span style="font-size:24px"><span style="color:rgb(0\, 32\, 96)">Celebrating the 60<sup>th</sup> Annual<br />\nAMVETS 4<sup>th</sup> of July Parade</span></span><br />\n<em><strong><span style="font-size:20px"><span style="color:rgb(0\, 32\, 96)">&ldquo\;Through the Decades&rdquo\;</span></span></strong></em><br />\n<span style="color:rgb(0\, 32\, 96)"><span style="font-size:12pt">What&rsquo\;s that you ask?&nbsp\; All entries incorporate a decade into their float\, unit\, etc.&nbsp\; Think of songs\, tv shows\, music groups\, movies\, and more when you think about how your float would represent your decade... 50&rsquo\;s\, 60&rsquo\;s\, 70&rsquo\;s\, 80&rsquo\;s\, 90&rsquo\;s\, 00&rsquo\;s.&nbsp\;<br />\n<em>This year Mayor Freeman selects his Grand Champion entry!&nbsp\; </em></span></span><br />\n<span style="color:rgb(0\, 32\, 96)">&nbsp\;&nbsp\;&nbsp\;&nbsp\;&nbsp\;&nbsp\;&nbsp\;&nbsp\;&nbsp\;&nbsp\;&nbsp\;&nbsp\;&nbsp\;&nbsp\;&nbsp\;&nbsp\;&nbsp\;&nbsp\;&nbsp\;&nbsp\;&nbsp\;&nbsp\;&nbsp\;&nbsp\;&nbsp\;&nbsp\;&nbsp\;&nbsp\;&nbsp\;&nbsp\;&nbsp\;&nbsp\;&nbsp\;&nbsp\;&nbsp\;&nbsp\;&nbsp\;&nbsp\;&nbsp\;&nbsp\;&nbsp\;&nbsp\;&nbsp\;&nbsp\;&nbsp\;&nbsp\;&nbsp\;&nbsp\;&nbsp\;&nbsp\;&nbsp\;&nbsp\;&nbsp\;&nbsp\;&nbsp\; &nbsp\;&nbsp\;&nbsp\;&nbsp\;&nbsp\;&nbsp\;&nbsp\;&nbsp\;&nbsp\;&nbsp\;&nbsp\;&nbsp\;&nbsp\;&nbsp\;&nbsp\;&nbsp\;&nbsp\;&nbsp\;&nbsp\;&nbsp\;&nbsp\;&nbsp\;&nbsp\;&nbsp\;&nbsp\;&nbsp\;&nbsp\;&nbsp\;&nbsp\;&nbsp\;&nbsp\;&nbsp\;&nbsp\;&nbsp\;&nbsp\;&nbsp\;&nbsp\;&nbsp\;&nbsp\;&nbsp\;&nbsp\;&nbsp\;&nbsp\;&nbsp\;&nbsp\;&nbsp\;&nbsp\;&nbsp\;&nbsp\;&nbsp\;&nbsp\;&nbsp\;&nbsp\;&nbsp\;&nbsp\;&nbsp\;&nbsp\;&nbsp\;&nbsp\;&nbsp\;&nbsp\;&nbsp\;&nbsp\;&nbsp\;&nbsp\;&nbsp\;&nbsp\;&nbsp\;&nbsp\;&nbsp\;&nbsp\;&nbsp\;&nbsp\;&nbsp\;&nbsp\;&nbsp\;&nbsp\;&nbsp\;&nbsp\;&nbsp\;&nbsp\;&nbsp\;&nbsp\;&nbsp\;&nbsp\;&nbsp\;&nbsp\;&nbsp\;&nbsp\;&nbsp\;&nbsp\;&nbsp\;&nbsp\;&nbsp\;&nbsp\;&nbsp\;&nbsp\;&nbsp\;&nbsp\;&nbsp\;&nbsp\;&nbsp\;&nbsp\;&nbsp\;&nbsp\;&nbsp\;&nbsp\;&nbsp\;&nbsp\;&nbsp\;&nbsp\;&nbsp\;&nbsp\;&nbsp\;&nbsp\;&nbsp\;&nbsp\;&nbsp\;&nbsp\;&nbsp\;&nbsp\;&nbsp\;&nbsp\;&nbsp\;&nbsp\;&nbsp\;&nbsp\;&nbsp\;&nbsp\;&nbsp\;&nbsp\;&nbsp\;&nbsp\;&nbsp\;&nbsp\;&nbsp\;&nbsp\;&nbsp\;&nbsp\;&nbsp\;&nbsp\;&nbsp\;&nbsp\;</span><br />\n<span style="color:#FFFFFF"><u><span style="font-size:24px"><span style="background-color:rgb(255\, 0\, 0)">Family Wagon Floats!</span></span></u></span><br />\n<span style="color:rgb(0\, 32\, 96)"><span style="font-size:12pt">Families &ndash\; Using a wagon as your base\, create a float that highlights your decade. Google &ldquo\;wagon float&rdquo\; for lots of great ideas!&nbsp\; Prizes <span style="font-size:14px">(Family Night - A night at the new Hyatt Hotel and large pizza from Fields of Pizza)</span> for the best wagon float in each decade.&nbsp\; Go to </span></span></span><span style="color:#002060"><span style="font-family:comic sans ms"><span style="font-size:11.0pt">http://www.eastmoline.com/375/EM-Independence-Day </span></span></span><span style="font-family:comic sans ms"><span style="color:rgb(0\, 32\, 96)"><span style="font-size:12pt">or email emsecretary@eastmoline.com and request one. </span></span></span></div>\n
LOCATION:Along 15th Ave 13th 3rd Streets
UID:e.2843.13294
SEQUENCE:3
DTSTAMP:20260421T154759Z
URL:https://member.quadcitieschamber.com/events/details/60th-annual-amvets-4th-of-july-parade-07-04-2020-13294
END:VEVENT

END:VCALENDAR
