BEGIN:VCALENDAR
VERSION:2.0
PRODID:-//ChamberMaster//Event Calendar 2.0//EN
METHOD:PUBLISH
X-PUBLISHED-TTL:P3D
REFRESH-INTERVAL:P3D
CALSCALE:GREGORIAN
BEGIN:VEVENT
DTSTART:20141120T233000Z
DTEND:20141121T030000Z
X-MICROSOFT-CDO-ALLDAYEVENT:FALSE
SUMMARY:6th Annual Holiday Hat Bash
DESCRIPTION:CASI's annual Holiday Hat Bash is a party with a purpose.  This event is geared towards raising funds to meet the needs of seniors during the holidays and throughout the year.  The event includes a raffle\, silent auction and hat contest.  Attendees will have the opportunity to sample delicious appetizers offered by local senior living facilities and vote for their favorite.  The winning facility will be awarded the coveted Golden Spoon.  Guest bartending teams will compete for tips throughout the evening.  The winning team will be awarded the Golden Goblet.
X-ALT-DESC;FMTTYPE=text/html:CASI's annual Holiday Hat Bash is a party with a purpose.  This event is geared towards raising funds to meet the needs of seniors during the holidays and throughout the year.  The event includes a raffle\, silent auction and hat contest.  Attendees will have the opportunity to sample delicious appetizers offered by local senior living facilities and vote for their favorite.  The winning facility will be awarded the coveted Golden Spoon.  Guest bartending teams will compete for tips throughout the evening.  The winning team will be awarded the Golden Goblet.
LOCATION:Center for Active Seniors\, Inc.1035 W. Kimberly Rd. Davenport\, IA 52806
UID:e.2843.22
SEQUENCE:3
DTSTAMP:20260422T230644Z
URL:https://member.quadcitieschamber.com/events/details/6th-annual-holiday-hat-bash-11-20-2014-22
END:VEVENT

END:VCALENDAR
