BEGIN:VCALENDAR
VERSION:2.0
PRODID:-//ChamberMaster//Event Calendar 2.0//EN
METHOD:PUBLISH
X-PUBLISHED-TTL:P3D
REFRESH-INTERVAL:P3D
CALSCALE:GREGORIAN
BEGIN:VEVENT
DTSTART:20201217T143000Z
DTEND:20201217T220000Z
X-MICROSOFT-CDO-ALLDAYEVENT:FALSE
SUMMARY:90 Day Planning In Person Workshop
DESCRIPTION:Create the Roadmap to Your Success!\n\n\n\nAre you ready to get balance in your life AND grow your business? You CAN! Join me on Thursday\, Sept. 24th for an all day\, in person 90 day planning workshop.\n\n\n\nDuring this webinar\, you will learn why the ActionCOACH formula is perfect for helping you learn how to set achievable goals\, drive real change\, and much more!\n\n\n\nMaking dreams come true is easier than you think! All it takes is idealization\, visualization\, verbalization\, and materialization. During this introduction to GrowthCLUB\, we'll break down these concepts to get you closer to achieving your dream.\n\n\n\nThis workshop is designed to be FUN and EDUCATIONAL. Throughout the experience\, you will be sharing your personal business successes and challenges with other entrepreneurs. By the end of our time together\, you'll be ready to make a pledge to yourself and commit to your plan for success.
X-ALT-DESC;FMTTYPE=text/html:<div style="margin-left:auto\; margin-right:auto\; text-align:center">\n<div>\n<p style="margin-left:0px\; margin-right:0px">Create the Roadmap to Your Success!</p>\n</div>\n</div>\n\n<div style="text-align:left">Are you ready to get balance in your life AND grow your business? You CAN! Join me on Thursday\, Sept. 24th for an all day\, in person 90 day planning workshop.</div>\n\n<div style="margin-left:auto\; margin-right:auto\; text-align:left">\n<div>\n<p>During this webinar\, you will learn why the ActionCOACH formula is perfect for helping you learn how to set achievable goals\, drive real change\, and much more!<br />\n<br />\nMaking dreams come true is easier than you think! All it takes is idealization\, visualization\, verbalization\, and materialization. During this introduction to GrowthCLUB\, we&rsquo\;ll break down these concepts to get you closer to achieving your dream.<br />\n<br />\nThis workshop is designed to be FUN and EDUCATIONAL. Throughout the experience\, you will be sharing your personal business successes and challenges with other entrepreneurs. By the end of our time together\, you&rsquo\;ll be ready to make a pledge to yourself and commit to your plan for success.</p>\n</div>\n</div>\n
LOCATION:Live Workshop St. Ambrose University Professional Development Center Please reserve your spot here: GrowthCLUB Registration
UID:e.2843.18368
SEQUENCE:3
DTSTAMP:20260421T081856Z
URL:https://member.quadcitieschamber.com/events/details/90-day-planning-in-person-workshop-12-17-2020-18368
END:VEVENT

END:VCALENDAR
