BEGIN:VCALENDAR
VERSION:2.0
PRODID:-//ChamberMaster//Event Calendar 2.0//EN
METHOD:PUBLISH
X-PUBLISHED-TTL:P3D
REFRESH-INTERVAL:P3D
CALSCALE:GREGORIAN
BEGIN:VEVENT
DTSTART:20140121T140000Z
DTEND:20140121T150000Z
X-MICROSOFT-CDO-ALLDAYEVENT:FALSE
SUMMARY:A Chance to Meet...
DESCRIPTION:"A Chance to Meet" features the purchasing decision maker of a large business. The program provides an overview of the featured company's purchasing needs. At the end of the program\, guests will have the opportunity for Q&A and to meet the speaker. This month is your Chance to Meet...Bush Construction. Recently awarded a $21 million contract from MetroLink to build a new transit center\, Bush Construction is making headlines as a dynamic and growing local organization. With a variety of services ranging from pre-construction to LEED/green building/sustainable construction\, learn more aboout Bush Construction and how your business can become a preferred vendor.  Click here to see who is already registered for this event!
X-ALT-DESC;FMTTYPE=text/html:<DIV style="FONT-FAMILY: Arial"><DIV style="FONT-FAMILY: Arial" align=center>"A Chance to Meet" features the purchasing decision maker of a large business. The program provides an overview of the featured company's purchasing needs. At the end of the program\, guests will have the opportunity for Q&amp\;A and to meet the speaker.</DIV><DIV style="FONT-FAMILY: Arial" align=center>&nbsp\;</DIV><DIV style="FONT-FAMILY: Arial" align=center><STRONG>This month is your Chance to Meet...Bush Construction.</STRONG></DIV><DIV style="FONT-FAMILY: Arial" align=center>&nbsp\;</DIV><DIV style="FONT-FAMILY: Arial" align=center>Recently awarded a $21 million contract from MetroLink to build a new transit center\, Bush Construction is making headlines as a dynamic and growing local organization. With a variety of services ranging from pre-construction to LEED/green building/sustainable construction\, learn more aboout Bush Construction and how your business can become a preferred vendor. </DIV><DIV style="FONT-FAMILY: Arial" align=center>&nbsp\;</DIV><DIV style="FONT-FAMILY: Arial" align=center><A href="http://events.quadcitieschamber.com/sbaweb/common/attendees.asp?eventcode=CTM 01/13">Click here</A> to see who is already registered for this event! </DIV></DIV>
LOCATION:TBD
UID:e.2843.709
SEQUENCE:3
DTSTAMP:20260422T013031Z
URL:https://member.quadcitieschamber.com/events/details/a-chance-to-meet-01-21-2014-709
END:VEVENT

END:VCALENDAR
