BEGIN:VCALENDAR
VERSION:2.0
PRODID:-//ChamberMaster//Event Calendar 2.0//EN
METHOD:PUBLISH
X-PUBLISHED-TTL:P3D
REFRESH-INTERVAL:P3D
CALSCALE:GREGORIAN
BEGIN:VEVENT
DTSTART:20190215T013000Z
DTEND:20190224T200000Z
X-MICROSOFT-CDO-ALLDAYEVENT:FALSE
SUMMARY:A Gentleman’s Guide to Love and Murder
DESCRIPTION:A distant heir to a family fortune sets out to speed up the line of succession by using a great deal of charm... and a dash of murder.\n\n A Gentleman's Guide to Love and Murder is the knock-'em-dead\, uproarious hit and the most-nominated show of the 2014 season. With ten Tony nominations and four wins\, including Best Musical\, Book\, Direction and Costumes\, it also earned seven Drama Desk Awards (including Best Musical)\, four Outer Critics Circle Awards (including Best Musical) and one Drama League Award (Best Musical).\n\n \n\n Tickets: $20\n\n Available at thespotlighttheatreqc.com or by calling 309-912-7647\n\n *Seats are assigned\n\n \n\n Performance Dates/Times:\n\n \n\n February 14th\, 15th and 16th at 7:30pm\n\n February 17th at 2pm\n\n February 22nd and 23rd at 7:30pm\n\n February 24th at 2pm\n\n \n\n *Special for this musical\, we will be offering a full bar and gourmet single sized desserts for purchase!\n\n \n\n *The full bar is available at all performances starting an hour before the show and during intermission. Desserts will be available during intermission.\n\n **Box Office opens at 6:30pm during evening performances and 1pm during matinees\n\n ***Doors to the theatre open at 7pm during evening performances and 1:30pm during matinees.\n\n \n\n Parking:\n\n Parking is available in our parking lot on the East side of the theatre. Once that lot is filled\, you may either use street parking or the parking structure across from the police station.\n\n \n\n Handicap Entrance:\n\n There is a handicap entrance available on the East side parking lot. Please follow the entrance under the black awning through the hallway to the elevator and take it to the first floor.\n\n \n\n For any questions\, please call us at 309-912-7647
X-ALT-DESC;FMTTYPE=text/html:<p><span style="font-size:12pt">A distant heir to a family fortune sets out to speed up the line of succession by using a great deal of charm... and a dash of murder.</span></p>\n\n<p><span style="font-size:12pt">&nbsp\;A Gentleman&#39\;s Guide to Love and Murder is the knock-&#39\;em-dead\, uproarious hit and the most-nominated show of the 2014 season. With ten Tony nominations and four wins\, including Best Musical\, Book\, Direction and Costumes\, it also earned seven Drama Desk Awards (including Best Musical)\, four Outer Critics Circle Awards (including Best Musical) and one Drama League Award (Best Musical).</span></p>\n\n<p>&nbsp\;</p>\n\n<p><span style="font-size:12pt">&nbsp\;Tickets: $20</span></p>\n\n<p><span style="font-size:12pt">&nbsp\;Available at thespotlighttheatreqc.com or by calling 309-912-7647</span></p>\n\n<p><span style="font-size:12pt">&nbsp\;*Seats are assigned</span></p>\n\n<p>&nbsp\;</p>\n\n<p><span style="font-size:12pt">&nbsp\;Performance Dates/Times:</span></p>\n\n<p>&nbsp\;</p>\n\n<p><span style="font-size:12pt">&nbsp\;February 14th\, 15th and 16th at 7:30pm</span></p>\n\n<p><span style="font-size:12pt">&nbsp\;February 17th at 2pm</span></p>\n\n<p><span style="font-size:12pt">&nbsp\;February 22nd and 23rd at 7:30pm</span></p>\n\n<p><span style="font-size:12pt">&nbsp\;February 24th at 2pm</span></p>\n\n<p>&nbsp\;</p>\n\n<p><span style="font-size:12pt">&nbsp\;*Special for this musical\, we will be offering a full bar and gourmet single sized desserts for purchase!</span></p>\n\n<p>&nbsp\;</p>\n\n<p><span style="font-size:12pt">&nbsp\;*The full bar is available at all performances starting an hour before the show and during intermission. Desserts will be available during intermission.</span></p>\n\n<p><span style="font-size:12pt">&nbsp\;**Box Office opens at 6:30pm during evening performances and 1pm during matinees</span></p>\n\n<p><span style="font-size:12pt">&nbsp\;***Doors to the theatre open at 7pm during evening performances and 1:30pm during matinees.</span></p>\n\n<p>&nbsp\;</p>\n\n<p><span style="font-size:12pt">&nbsp\;Parking:</span></p>\n\n<p><span style="font-size:12pt">&nbsp\;Parking is available in our parking lot on the East side of the theatre. Once that lot is filled\, you may either use street parking or the parking structure across from the police station.</span></p>\n\n<p>&nbsp\;</p>\n\n<p><span style="font-size:12pt">&nbsp\;Handicap Entrance:</span></p>\n\n<p><span style="font-size:12pt">&nbsp\;There is a handicap entrance available on the East side parking lot. Please follow the entrance under the black awning through the hallway to the elevator and take it to the first floor.</span></p>\n\n<p>&nbsp\;</p>\n\n<p><span style="font-size:12pt">&nbsp\;For any questions\, please call us at 309-912-7647</span></p>\n
LOCATION:The Spotlight Theatre 1800 7th Ave. Moline\, IL 61265
UID:e.2843.13730
SEQUENCE:3
DTSTAMP:20260422T195836Z
URL:https://member.quadcitieschamber.com/events/details/a-gentleman-s-guide-to-love-and-murder-13730
END:VEVENT

END:VCALENDAR
