BEGIN:VCALENDAR
VERSION:2.0
PRODID:-//ChamberMaster//Event Calendar 2.0//EN
METHOD:PUBLISH
X-PUBLISHED-TTL:P3D
REFRESH-INTERVAL:P3D
CALSCALE:GREGORIAN
BEGIN:VEVENT
DTSTART:20091006T050000Z
DTEND:20091006T050000Z
X-MICROSOFT-CDO-ALLDAYEVENT:FALSE
SUMMARY:A.M. Scott County 2009
DESCRIPTION:A.M. Scott County 2009
X-ALT-DESC;FMTTYPE=text/html:A.M. Scott County 2009
LOCATION:
UID:e.2843.4193
SEQUENCE:3
DTSTAMP:20260424T073444Z
URL:https://member.quadcitieschamber.com/events/details/a-m-scott-county-2009-10-06-2009-4193
END:VEVENT

END:VCALENDAR
