BEGIN:VCALENDAR
VERSION:2.0
PRODID:-//ChamberMaster//Event Calendar 2.0//EN
METHOD:PUBLISH
X-PUBLISHED-TTL:P3D
REFRESH-INTERVAL:P3D
CALSCALE:GREGORIAN
BEGIN:VEVENT
DTSTART:20200828T230000Z
DTEND:20200828T234500Z
X-MICROSOFT-CDO-ALLDAYEVENT:FALSE
SUMMARY:A Virtual Taste on the River
DESCRIPTION:Join us for a virtual 30-minute A Taste on the River celebration! There will be a tantalizing culinary experience\, live music performance and an online silent auction of unique "must have" items\, all from the comfort of your own home.
X-ALT-DESC;FMTTYPE=text/html:Join us for a virtual 30-minute A Taste on the River celebration! There will be a tantalizing culinary experience\, live music performance and an online silent auction of unique &ldquo\;must have&rdquo\; items\, all from the comfort of your own home.
LOCATION:Register for the FREE event here: https://zoom.us/webinar/register/WN_R2b72nvlT3awFVx06G192A
UID:e.2843.17907
SEQUENCE:3
DTSTAMP:20260421T140759Z
URL:https://member.quadcitieschamber.com/events/details/a-virtual-taste-on-the-river-17907
END:VEVENT

END:VCALENDAR
