BEGIN:VCALENDAR
VERSION:2.0
PRODID:-//ChamberMaster//Event Calendar 2.0//EN
METHOD:PUBLISH
X-PUBLISHED-TTL:P3D
REFRESH-INTERVAL:P3D
CALSCALE:GREGORIAN
BEGIN:VEVENT
DTSTART:20131111T190000Z
DTEND:20131111T193000Z
X-MICROSOFT-CDO-ALLDAYEVENT:FALSE
SUMMARY:Abernathy's Grand Opening Ribbon Cutting
DESCRIPTION:Abernathys\, located at 315 E. 2nd St. Davenport\, IA 52801\, will celebrate their grand opening with a ribbon cutting on Monday\, November 11th at 1:00pm.   http://mapq.st/17xqa4i.   Abernathy’s is the one stop shop for the unique\, one of a kind and never seen before vintage clothing and accessories\, handmade jewelry and statement pieces\, home decor\, fragrance\, music\, and all around experience. Their store is the home to such brands as Unforgiven Vintage\, Autopsy Tailors\, and Goathead and Bunny. Abernathy’s may have been seen at places such as car shows\, festivals\, and other celebrations.  For more information\, please visit www.shopabernathys.com and www.facebook.com/shopabernathys.
X-ALT-DESC;FMTTYPE=text/html:<P style="MARGIN: 0in 0in 0pt" class=MsoNormal><FONT face=Calibri>Abernathys\, <B style="mso-bidi-font-weight: normal">located at 315 E. 2<SUP>nd</SUP> St. Davenport\, IA 52801</B>\, will celebrate their grand opening with a ribbon cutting on <B style="mso-bidi-font-weight: normal">Monday\, November 11<SUP>th</SUP> at 1:00pm.<SPAN style="mso-spacerun: yes">&nbsp\; </SPAN></B><SPAN style="mso-spacerun: yes">&nbsp\;</SPAN></FONT><A href="http://mapq.st/17xqa4i">http://mapq.st/17xqa4i</A><FONT face=Calibri>.<SPAN style="mso-spacerun: yes">&nbsp\; </SPAN><?xml:namespace prefix = o ns = "urn:schemas-microsoft-com:office:office" /><o:p></o:p></FONT></P><P style="MARGIN: 0in 0in 0pt" class=MsoNormal><o:p><FONT face=Calibri>&nbsp\;</FONT></o:p></P><P style="MARGIN: 0in 0in 0pt" class=MsoNormal><FONT face=Calibri>Abernathy’s is the one stop shop for the unique\, one of a kind and never seen before vintage clothing and accessories\, handmade jewelry and statement pieces\, home decor\, fragrance\, music\, and all around experience. Their store is the home to such brands as Unforgiven Vintage\, Autopsy Tailors\, and Goathead and Bunny. Abernathy’s may have been seen at places such as car shows\, festivals\, and other celebrations. <o:p></o:p></FONT></P><P style="MARGIN: 0in 0in 0pt" class=MsoNormal><o:p><FONT face=Calibri>&nbsp\;</FONT></o:p></P><P style="MARGIN: 0in 0in 0pt" class=MsoNormal><FONT face=Calibri>For more information\, please visit </FONT><A href="http://www.shopabernathys.com">www.shopabernathys.com</A><FONT face=Calibri> and </FONT><A href="http://www.facebook.com/shopabernathys">www.facebook.com/shopabernathys</A><FONT face=Calibri>.<o:p></o:p></FONT></P><P style="MARGIN: 0in 0in 0pt" class=MsoNormal><o:p><FONT face=Calibri>&nbsp\;</FONT></o:p></P><P>&nbsp\;</P>
LOCATION:Abernathy's315 E. 2nd St. Davenport\, IA 52801
UID:e.2843.742
SEQUENCE:3
DTSTAMP:20260421T220805Z
URL:https://member.quadcitieschamber.com/events/details/abernathy-s-grand-opening-ribbon-cutting-11-11-2013-742
END:VEVENT

END:VCALENDAR
