BEGIN:VCALENDAR
VERSION:2.0
PRODID:-//ChamberMaster//Event Calendar 2.0//EN
METHOD:PUBLISH
X-PUBLISHED-TTL:P3D
REFRESH-INTERVAL:P3D
CALSCALE:GREGORIAN
BEGIN:VEVENT
DTSTART:20180224T150000Z
DTEND:20180224T173000Z
X-MICROSOFT-CDO-ALLDAYEVENT:FALSE
SUMMARY:Accounting and Tax Planning for Your Small Business
DESCRIPTION:Learn about accounting and tax planning strategies for your small business. This seminar is geared particularly toward farmer's market vendors and will be offered simultaneously in English and Spanish. All community members are welcome!
X-ALT-DESC;FMTTYPE=text/html:Learn about accounting and tax planning strategies for your small business. This seminar is geared particularly toward farmer&#39\;s market vendors and will be offered simultaneously in English and Spanish. All community members are welcome!
LOCATION:THE ESPERANZA CENTER 335 5th Avenue Moline\, IL 61265
UID:e.2843.10028
SEQUENCE:3
DTSTAMP:20260423T165744Z
URL:https://member.quadcitieschamber.com/events/details/accounting-and-tax-planning-for-your-small-business-10028
END:VEVENT

END:VCALENDAR
