BEGIN:VCALENDAR
VERSION:2.0
PRODID:-//ChamberMaster//Event Calendar 2.0//EN
METHOD:PUBLISH
X-PUBLISHED-TTL:P3D
REFRESH-INTERVAL:P3D
CALSCALE:GREGORIAN
BEGIN:VEVENT
DTSTART:20170912T230000Z
DTEND:20170913T000000Z
X-MICROSOFT-CDO-ALLDAYEVENT:FALSE
SUMMARY:Adulting Series: Finding & Keeping An Apartment or House
DESCRIPTION:Come to The Library at Fairmount for a series of courses that will help you master basic how-to's. The program is designed especially with Millennials in mind\, but all those interested are welcome. \n\n\n\nRegistration Required: \n\nVisit website and click on the "Register" button in upper right corner!
X-ALT-DESC;FMTTYPE=text/html:Come to The Library at Fairmount for a series of courses that will help you master basic how-to&#39\;s. The program is designed especially with Millennials in mind\, but all those interested are welcome.&nbsp\;<br />\n<br />\n<strong>Registration Required: </strong><br />\nVisit website and click on the &quot\;Register&quot\; button in upper right corner!
LOCATION:3000 N. Fairmount Street Davenport\, Iowa 52804
UID:e.2843.6315
SEQUENCE:3
DTSTAMP:20260423T220159Z
URL:https://member.quadcitieschamber.com/events/details/adulting-finding-keeping-an-apartment-or-house-6315
END:VEVENT

END:VCALENDAR
